BEGIN:VCALENDAR
VERSION:2.0
PRODID:-//Saint Michael&#039;s College - ECPv6.15.14//NONSGML v1.0//EN
CALSCALE:GREGORIAN
METHOD:PUBLISH
X-ORIGINAL-URL:https://www.smcvt.edu
X-WR-CALDESC:Events for Saint Michael&#039;s College
REFRESH-INTERVAL;VALUE=DURATION:PT1H
X-Robots-Tag:noindex
X-PUBLISHED-TTL:PT1H
BEGIN:VTIMEZONE
TZID:America/New_York
BEGIN:DAYLIGHT
TZOFFSETFROM:-0500
TZOFFSETTO:-0400
TZNAME:EDT
DTSTART:20240310T070000
END:DAYLIGHT
BEGIN:STANDARD
TZOFFSETFROM:-0400
TZOFFSETTO:-0500
TZNAME:EST
DTSTART:20241103T060000
END:STANDARD
BEGIN:DAYLIGHT
TZOFFSETFROM:-0500
TZOFFSETTO:-0400
TZNAME:EDT
DTSTART:20250309T070000
END:DAYLIGHT
BEGIN:STANDARD
TZOFFSETFROM:-0400
TZOFFSETTO:-0500
TZNAME:EST
DTSTART:20251102T060000
END:STANDARD
BEGIN:DAYLIGHT
TZOFFSETFROM:-0500
TZOFFSETTO:-0400
TZNAME:EDT
DTSTART:20260308T070000
END:DAYLIGHT
BEGIN:STANDARD
TZOFFSETFROM:-0400
TZOFFSETTO:-0500
TZNAME:EST
DTSTART:20261101T060000
END:STANDARD
END:VTIMEZONE
BEGIN:VEVENT
DTSTART;VALUE=DATE:20250606
DTEND;VALUE=DATE:20250609
DTSTAMP:20260424T131112
CREATED:20241206T132941Z
LAST-MODIFIED:20250605T150803Z
UID:10001265-1749168000-1749427199@www.smcvt.edu
SUMMARY:Reunion 2025
DESCRIPTION:Save the date for Reunion 2025 – Friday\, June 6th – Sunday\, June 8th. We will be celebrating all class years that end in 0s and 5s\, but as always\, all are welcome! Bookmark smcvt.edu/reunion for forthcoming information about the weekend.
URL:https://www.smcvt.edu/event/reunion-2025/
LOCATION:Saint Michael’s College\, One Winooski Park\, Colchester\, VT\, 05439\, United States
CATEGORIES:Alumni Events
ATTACH;FMTTYPE=image/jpeg:https://www.smcvt.edu/wp-content/uploads/2024/12/file-7.jpg
END:VEVENT
BEGIN:VEVENT
DTSTART;TZID=America/New_York:20250614T120000
DTEND;TZID=America/New_York:20250614T150000
DTSTAMP:20260424T131112
CREATED:20250520T180948Z
LAST-MODIFIED:20250610T184306Z
UID:10001964-1749902400-1749913200@www.smcvt.edu
SUMMARY:SMC South Shore at Trillium Brewery
DESCRIPTION:Join your fellow alumni for an afternoon of camaraderie at Trillium Brewery in Canton! \nSaturday\, June 14th\, 2025 | 12-3 PM \nTrillium Brewery Canton\n100 Royall Street\nCanton\, MA 02021 \nThis is a family-friendly event\, so everyone in your family can join in the fun! Let us know you’re coming here. \nThis is a pay-as-you-go event.
URL:https://www.smcvt.edu/event/south-shore-at-trillium/
LOCATION:Trillium Brewing\, 100 Royall Street\, Canton\, 02021\, United States
CATEGORIES:Alumni Events
END:VEVENT
BEGIN:VEVENT
DTSTART;TZID=America/New_York:20250617T173000
DTEND;TZID=America/New_York:20250617T230000
DTSTAMP:20260424T131112
CREATED:20250520T174703Z
LAST-MODIFIED:20250520T174728Z
UID:10001959-1750181400-1750201200@www.smcvt.edu
SUMMARY:St. Mike's at the New York Yankees!
DESCRIPTION:Tuesday\, June 17th\nPre-game drinks: 5:30-7:05 pm\nFirst pitch: 7:05 pm vs. Los Angeles Angels \nYankee Stadium\n1 E 161 St\nBronx\, NY 10451 \nTickets: $75/person; purchase them here! This cost includes seating in Section 333 and access to the Budweiser Party Deck\, a shaded standalone bar area where we will gather prior to first pitch. Enjoy an open bar of draft beer and soft drinks with your fellow Purple Knights!
URL:https://www.smcvt.edu/event/st-mikes-at-the-new-york-yankees-2025/
LOCATION:Yankee Stadium\, 1 E 161st Street\, Bronx\, NY\, 10451\, United States
CATEGORIES:Alumni Events
ATTACH;FMTTYPE=image/png:https://www.smcvt.edu/wp-content/uploads/2024/05/yankees.png
END:VEVENT
BEGIN:VEVENT
DTSTART;TZID=America/New_York:20250625T180000
DTEND;TZID=America/New_York:20250625T210000
DTSTAMP:20260424T131112
CREATED:20250520T175143Z
LAST-MODIFIED:20250520T175231Z
UID:10001960-1750874400-1750885200@www.smcvt.edu
SUMMARY:St. Mike's at the Lake Monsters!
DESCRIPTION:Local Purple Knights\, cheer on the Vermont Lake Monsters as they face off against the Nashua Silver Knights! With our annual BBQ dinner at the game\, you won’t want to miss this Saint Michael’s tradition! \nWednesday\, June 25th\nFirst pitch is at 6:35 pm \nDelta Dental Diamond at Centennial Field\n287 Colchester Ave.\nBurlington\, VT 05401 \nTickets are $20.99/person; purchase them here! Children who are 2 years old and under get in for free. Read about parking at Centennial Field on their website. \nQuestions? Email events@smcvt.edu.
URL:https://www.smcvt.edu/event/st-mikes-at-the-lake-monsters-2025/
LOCATION:Centennial Field\, 287 Colchester Avenue\, Burlington\, VT\, 05401\, United States
CATEGORIES:Alumni Events
ATTACH;FMTTYPE=image/png:https://www.smcvt.edu/wp-content/uploads/2024/05/VermontLakeMonsters.png
END:VEVENT
END:VCALENDAR