BEGIN:VCALENDAR
VERSION:2.0
PRODID:-//Saint Michael&#039;s College - ECPv6.15.14//NONSGML v1.0//EN
CALSCALE:GREGORIAN
METHOD:PUBLISH
X-ORIGINAL-URL:https://www.smcvt.edu
X-WR-CALDESC:Events for Saint Michael&#039;s College
REFRESH-INTERVAL;VALUE=DURATION:PT1H
X-Robots-Tag:noindex
X-PUBLISHED-TTL:PT1H
BEGIN:VTIMEZONE
TZID:America/New_York
BEGIN:DAYLIGHT
TZOFFSETFROM:-0500
TZOFFSETTO:-0400
TZNAME:EDT
DTSTART:20250309T070000
END:DAYLIGHT
BEGIN:STANDARD
TZOFFSETFROM:-0400
TZOFFSETTO:-0500
TZNAME:EST
DTSTART:20251102T060000
END:STANDARD
BEGIN:DAYLIGHT
TZOFFSETFROM:-0500
TZOFFSETTO:-0400
TZNAME:EDT
DTSTART:20260308T070000
END:DAYLIGHT
BEGIN:STANDARD
TZOFFSETFROM:-0400
TZOFFSETTO:-0500
TZNAME:EST
DTSTART:20261101T060000
END:STANDARD
BEGIN:DAYLIGHT
TZOFFSETFROM:-0500
TZOFFSETTO:-0400
TZNAME:EDT
DTSTART:20270314T070000
END:DAYLIGHT
BEGIN:STANDARD
TZOFFSETFROM:-0400
TZOFFSETTO:-0500
TZNAME:EST
DTSTART:20271107T060000
END:STANDARD
END:VTIMEZONE
BEGIN:VEVENT
DTSTART;TZID=America/New_York:20260117T080000
DTEND;TZID=America/New_York:20260117T150000
DTSTAMP:20260422T031520
CREATED:20251117T164555Z
LAST-MODIFIED:20251117T164555Z
UID:10002752-1768636800-1768662000@www.smcvt.edu
SUMMARY:Nebraska Notch Snowshoe Hike
DESCRIPTION:Enjoy an easier day hike through a beautiful valley on the edge of Mt. Mansfield. No prior hiking experience needed. \nIncluded in all of our programs: \n\nAn inclusive\, supportive environment for experiencing and learning.\nState-of-the-sport instruction from student-instructors and working professionals.\nTop-of-the-line technical equipment and outdoor clothing.\nOpportunities to challenge yourself.
URL:https://www.smcvt.edu/event/nebraska-notch-snowshoe-hike/
LOCATION:Adventure Sports Center\, VT
CATEGORIES:Adventure Sports Center
ATTACH;FMTTYPE=image/jpeg:https://www.smcvt.edu/wp-content/uploads/2025/11/sugarbush-1-7.jpg
END:VEVENT
BEGIN:VEVENT
DTSTART;TZID=America/New_York:20260117T084500
DTEND;TZID=America/New_York:20260117T160000
DTSTAMP:20260422T031520
CREATED:20251110T204034Z
LAST-MODIFIED:20251110T204034Z
UID:10002731-1768639500-1768665600@www.smcvt.edu
SUMMARY:Sugarbush Van
DESCRIPTION:Get a free ride to Sugarbush.  Pre-registration at the Adventure Sports Cetner is requested.  With insufficient signup (less than 5) programs will be cancelled on the Friday morning before the trip.
URL:https://www.smcvt.edu/event/sugarbush-van-5/
LOCATION:Adventure Sports Center\, VT
CATEGORIES:Adventure Sports Center
ATTACH;FMTTYPE=image/jpeg:https://www.smcvt.edu/wp-content/uploads/2025/11/sugarbush-1.jpg
END:VEVENT
BEGIN:VEVENT
DTSTART;TZID=America/New_York:20260118T070000
DTEND;TZID=America/New_York:20260118T170000
DTSTAMP:20260422T031520
CREATED:20251117T152245Z
LAST-MODIFIED:20251117T152245Z
UID:10002741-1768719600-1768755600@www.smcvt.edu
SUMMARY:Ice Climbing with the Adventure Sports Center
DESCRIPTION:Take a trip to beautiful Smugglers Notch and experience this incredible sport. We’ll start with lower angle terrain and transition to more difficult climbs as your skills and comfort level builds. \nOn any trip you’ll get: \n\nAn inclusive\, supportive environment for experiencing and learning.\nState-of-the-sport instruction from student-instructors and working professionals.\nTop-of-the-line technical equipment and outdoor clothing.\nOpportunities to challenge yourself.
URL:https://www.smcvt.edu/event/ice-climbing-with-the-adventure-sports-center/
LOCATION:Adventure Sports Center\, VT
CATEGORIES:Adventure Sports Center
END:VEVENT
BEGIN:VEVENT
DTSTART;TZID=America/New_York:20260118T070000
DTEND;TZID=America/New_York:20260118T170000
DTSTAMP:20260422T031520
CREATED:20251117T154411Z
LAST-MODIFIED:20251117T154411Z
UID:10002742-1768719600-1768755600@www.smcvt.edu
SUMMARY:Ice Climbing with the Adventure Sports Center
DESCRIPTION:Take a trip to beautiful Smugglers Notch and experience this incredible sport. We’ll start with lower angle terrain and transition to more difficult climbs as your skills and comfort level builds. \nOn any trip you’ll get: \n\nAn inclusive\, supportive environment for experiencing and learning.\nState-of-the-sport instruction from student-instructors and working professionals.\nTop-of-the-line technical equipment and outdoor clothing.\nOpportunities to challenge yourself.
URL:https://www.smcvt.edu/event/ice-climbing-with-the-adventure-sports-center-2/
LOCATION:Adventure Sports Center\, VT
CATEGORIES:Adventure Sports Center
ATTACH;FMTTYPE=image/jpeg:https://www.smcvt.edu/wp-content/uploads/2025/11/Ice-climbing-scaled.jpg
END:VEVENT
BEGIN:VEVENT
DTSTART;TZID=America/New_York:20260119T113000
DTEND;TZID=America/New_York:20260119T133000
DTSTAMP:20260422T031520
CREATED:20251212T144515Z
LAST-MODIFIED:20251212T144515Z
UID:10002780-1768822200-1768829400@www.smcvt.edu
SUMMARY:The World House Community Mural with Creative Commons Art Club
DESCRIPTION:All are welcome to contribute to this year’s celebratory mural and help paint the foundational layers of our World House ecosystem.
URL:https://www.smcvt.edu/event/the-world-house-community-mural-with-creative-commons-art-club/
LOCATION:Lobby\, Alliot Student Center
CATEGORIES:Annual Dr. Martin Luther King, Jr. Convocation
END:VEVENT
BEGIN:VEVENT
DTSTART;TZID=America/New_York:20260119T130000
DTEND;TZID=America/New_York:20260119T170000
DTSTAMP:20260422T031520
CREATED:20251119T164407Z
LAST-MODIFIED:20251202T161148Z
UID:10002766-1768827600-1768842000@www.smcvt.edu
SUMMARY:MLK Day Creative Space
DESCRIPTION:MLK Day Creative Space – Button making\, shirts\, laser cutting\, and more.
URL:https://www.smcvt.edu/event/mlk-day-creative-space-2/
LOCATION:Creative Design Studio\, Saint Michael's College Dion Student Center
CATEGORIES:Alumni Events,Annual Dr. Martin Luther King, Jr. Convocation
ATTACH;FMTTYPE=image/jpeg:https://www.smcvt.edu/wp-content/uploads/2025/11/IMG_8352.jpg
END:VEVENT
BEGIN:VEVENT
DTSTART;TZID=America/New_York:20260123T190000
DTEND;TZID=America/New_York:20260123T203000
DTSTAMP:20260422T031520
CREATED:20260122T165234Z
LAST-MODIFIED:20260122T165234Z
UID:10002809-1769194800-1769200200@www.smcvt.edu
SUMMARY:Pancake Dinner with Fire & Rescue
DESCRIPTION:Join Fire & Rescue for a pancake dinner this FRI 1/23 in Dion! Come enjoy a tasty treat and learn more about our amazing\, student-led organization.
URL:https://www.smcvt.edu/event/pancake-dinner-with-fire-rescue/
LOCATION:Dion Family Student Center
CATEGORIES:Fire and Rescue
ATTACH;FMTTYPE=image/jpeg:https://www.smcvt.edu/wp-content/uploads/2026/01/JAN-23-Pancake-Dinner-with-SMFR-scaled.jpg
END:VEVENT
BEGIN:VEVENT
DTSTART;TZID=America/New_York:20260124T070000
DTEND;TZID=America/New_York:20260124T170000
DTSTAMP:20260422T031520
CREATED:20251117T154517Z
LAST-MODIFIED:20251117T154517Z
UID:10002743-1769238000-1769274000@www.smcvt.edu
SUMMARY:Ice Climbing with the Adventure Sports Center
DESCRIPTION:Take a trip to beautiful Smugglers Notch and experience this incredible sport. We’ll start with lower angle terrain and transition to more difficult climbs as your skills and comfort level builds. \nOn any trip you’ll get: \n\nAn inclusive\, supportive environment for experiencing and learning.\nState-of-the-sport instruction from student-instructors and working professionals.\nTop-of-the-line technical equipment and outdoor clothing.\nOpportunities to challenge yourself.
URL:https://www.smcvt.edu/event/ice-climbing-with-the-adventure-sports-center-3/
LOCATION:Adventure Sports Center\, VT
CATEGORIES:Adventure Sports Center
ATTACH;FMTTYPE=image/jpeg:https://www.smcvt.edu/wp-content/uploads/2025/11/ice-climbing-3-scaled.jpg
END:VEVENT
BEGIN:VEVENT
DTSTART;TZID=America/New_York:20260124T080000
DTEND;TZID=America/New_York:20260124T140000
DTSTAMP:20260422T031520
CREATED:20251117T165404Z
LAST-MODIFIED:20251117T165404Z
UID:10002753-1769241600-1769263200@www.smcvt.edu
SUMMARY:Duxbury Window Hike
DESCRIPTION:Enjoy a stroll in the mountains to a view ovelooking the Winooski River. No experience needed. \nIncluded in all of our programs. \n\nAn inclusive\, supportive environment for experiencing and learning.\nState-of-the-sport instruction from student-instructors and working professionals.\nTop-of-the-line technical equipment and outdoor clothing.\nOpportunities to challenge yourself.
URL:https://www.smcvt.edu/event/duxbury-window-hike/
LOCATION:Adventure Sports Center\, VT
CATEGORIES:Adventure Sports Center
ATTACH;FMTTYPE=image/jpeg:https://www.smcvt.edu/wp-content/uploads/2025/11/snowshoe-2-scaled.jpg
END:VEVENT
BEGIN:VEVENT
DTSTART;TZID=America/New_York:20260124T083000
DTEND;TZID=America/New_York:20260124T160000
DTSTAMP:20260422T031520
CREATED:20251110T204353Z
LAST-MODIFIED:20251110T204353Z
UID:10002732-1769243400-1769270400@www.smcvt.edu
SUMMARY:Sugarbush Van
DESCRIPTION:Get a free ride to Sugarbush.  Pre-registration at the Adventure Sports Cetner is requested.  With insufficient signup (less than 5) programs will be cancelled on the Friday morning before the trip.
URL:https://www.smcvt.edu/event/sugarbush-van-6/
LOCATION:Adventure Sports Center\, VT
CATEGORIES:Adventure Sports Center
ATTACH;FMTTYPE=image/jpeg:https://www.smcvt.edu/wp-content/uploads/2025/11/sugarbush-1-1.jpg
END:VEVENT
BEGIN:VEVENT
DTSTART;TZID=America/New_York:20260125T064500
DTEND;TZID=America/New_York:20260125T160000
DTSTAMP:20260422T031520
CREATED:20251110T204355Z
LAST-MODIFIED:20251110T204355Z
UID:10002733-1769323500-1769356800@www.smcvt.edu
SUMMARY:Sugarbush Van
DESCRIPTION:Get a free ride to Sugarbush.  Pre-registration at the Adventure Sports Cetner is requested.  With insufficient signup (less than 5) programs will be cancelled on the Friday morning before the trip.
URL:https://www.smcvt.edu/event/sugarbush-van-7/
LOCATION:Adventure Sports Center\, VT
CATEGORIES:Adventure Sports Center
ATTACH;FMTTYPE=image/jpeg:https://www.smcvt.edu/wp-content/uploads/2025/11/sugarbush-1-2.jpg
END:VEVENT
BEGIN:VEVENT
DTSTART;TZID=America/New_York:20260125T070000
DTEND;TZID=America/New_York:20260125T170000
DTSTAMP:20260422T031520
CREATED:20251117T154949Z
LAST-MODIFIED:20251117T154949Z
UID:10002746-1769324400-1769360400@www.smcvt.edu
SUMMARY:Mountaineering with Adventure Sports
DESCRIPTION:If you are looking for a day of travel more challenging than hiking\, then mountaineering is for you. Combining ropes\, crampons\, and ice axes you’ll have the chance to ascend a\nclassic gully in Smugglers Notch. \n\nAn inclusive\, supportive environment for experiencing and learning.\nState-of-the-sport instruction from student-instructors and working professionals.\nTop-of-the-line technical equipment and outdoor clothing.\nOpportunities to challenge yourself.
URL:https://www.smcvt.edu/event/mountaineering-with-adventure-sports-4/
LOCATION:Adventure Sports Center\, VT
CATEGORIES:Adventure Sports Center
ATTACH;FMTTYPE=image/jpeg:https://www.smcvt.edu/wp-content/uploads/2025/11/Mtn-1.jpg
END:VEVENT
BEGIN:VEVENT
DTSTART;TZID=America/New_York:20260130T180000
DTEND;TZID=America/New_York:20260130T200000
DTSTAMP:20260422T031520
CREATED:20260122T165354Z
LAST-MODIFIED:20260122T175618Z
UID:10002810-1769796000-1769803200@www.smcvt.edu
SUMMARY:Trivia Knight
DESCRIPTION:Brought to you by Durick Library and Student Activities. Categories include: Geography\, Food & Drink\, Animals\, Science\, and an audio round of Who Said it?: TV Character Edition. To register\, contact Kristen Hindes at khindes@smcvt.edu by 1/29. Please include your team name\, the number of people on the team (3-5)\, and your team captain and contact info.
URL:https://www.smcvt.edu/event/trivia-knight/
LOCATION:Durick Library
CATEGORIES:Library
ATTACH;FMTTYPE=image/jpeg:https://www.smcvt.edu/wp-content/uploads/2026/01/Library-Trivia-Knight-Spring-2026-scaled.jpg
END:VEVENT
END:VCALENDAR