BEGIN:VCALENDAR
VERSION:2.0
PRODID:-//Saint Michael&#039;s College - ECPv6.15.14//NONSGML v1.0//EN
CALSCALE:GREGORIAN
METHOD:PUBLISH
X-WR-CALNAME:Saint Michael&#039;s College
X-ORIGINAL-URL:https://www.smcvt.edu
X-WR-CALDESC:Events for Saint Michael&#039;s College
REFRESH-INTERVAL;VALUE=DURATION:PT1H
X-Robots-Tag:noindex
X-PUBLISHED-TTL:PT1H
BEGIN:VTIMEZONE
TZID:America/New_York
BEGIN:DAYLIGHT
TZOFFSETFROM:-0500
TZOFFSETTO:-0400
TZNAME:EDT
DTSTART:20240310T070000
END:DAYLIGHT
BEGIN:STANDARD
TZOFFSETFROM:-0400
TZOFFSETTO:-0500
TZNAME:EST
DTSTART:20241103T060000
END:STANDARD
BEGIN:DAYLIGHT
TZOFFSETFROM:-0500
TZOFFSETTO:-0400
TZNAME:EDT
DTSTART:20250309T070000
END:DAYLIGHT
BEGIN:STANDARD
TZOFFSETFROM:-0400
TZOFFSETTO:-0500
TZNAME:EST
DTSTART:20251102T060000
END:STANDARD
BEGIN:DAYLIGHT
TZOFFSETFROM:-0500
TZOFFSETTO:-0400
TZNAME:EDT
DTSTART:20260308T070000
END:DAYLIGHT
BEGIN:STANDARD
TZOFFSETFROM:-0400
TZOFFSETTO:-0500
TZNAME:EST
DTSTART:20261101T060000
END:STANDARD
END:VTIMEZONE
BEGIN:VEVENT
DTSTART;TZID=America/New_York:20250425T160000
DTEND;TZID=America/New_York:20250425T180000
DTSTAMP:20260423T184531
CREATED:20250415T173024Z
LAST-MODIFIED:20250415T173024Z
UID:10001951-1745596800-1745604000@www.smcvt.edu
SUMMARY:Get "Stoned"
DESCRIPTION:Get “Stoned” \nFriday\, April 25\, from 4 to 6 p.m.\n300’s Field \nCome join Be Well to Paint Rocks as we spark conversation on the good\, the bad\, and the ugly of cannabis. T-Break Guides and other resources available. This year\, we will also be featuring Borg trivia. Stop by as you prep for P-Day. \n4/25 on the 3’s field\n4:00 pm – 6:00 pm \nPizza and cosmic brownies provided!
URL:https://www.smcvt.edu/event/get-stoned/
LOCATION:300’s Field
CATEGORIES:Be Well
ATTACH;FMTTYPE=application/pdf:https://www.smcvt.edu/wp-content/uploads/2025/04/Get-Stoned-420-event-3.pdf
END:VEVENT
END:VCALENDAR