BEGIN:VCALENDAR
VERSION:2.0
PRODID:-//Saint Michael&#039;s College - ECPv6.15.14//NONSGML v1.0//EN
CALSCALE:GREGORIAN
METHOD:PUBLISH
X-ORIGINAL-URL:https://www.smcvt.edu
X-WR-CALDESC:Events for Saint Michael&#039;s College
REFRESH-INTERVAL;VALUE=DURATION:PT1H
X-Robots-Tag:noindex
X-PUBLISHED-TTL:PT1H
BEGIN:VTIMEZONE
TZID:America/New_York
BEGIN:DAYLIGHT
TZOFFSETFROM:-0500
TZOFFSETTO:-0400
TZNAME:EDT
DTSTART:20250309T070000
END:DAYLIGHT
BEGIN:STANDARD
TZOFFSETFROM:-0400
TZOFFSETTO:-0500
TZNAME:EST
DTSTART:20251102T060000
END:STANDARD
BEGIN:DAYLIGHT
TZOFFSETFROM:-0500
TZOFFSETTO:-0400
TZNAME:EDT
DTSTART:20260308T070000
END:DAYLIGHT
BEGIN:STANDARD
TZOFFSETFROM:-0400
TZOFFSETTO:-0500
TZNAME:EST
DTSTART:20261101T060000
END:STANDARD
BEGIN:DAYLIGHT
TZOFFSETFROM:-0500
TZOFFSETTO:-0400
TZNAME:EDT
DTSTART:20270314T070000
END:DAYLIGHT
BEGIN:STANDARD
TZOFFSETFROM:-0400
TZOFFSETTO:-0500
TZNAME:EST
DTSTART:20271107T060000
END:STANDARD
END:VTIMEZONE
BEGIN:VEVENT
DTSTART;TZID=America/New_York:20260422T153000
DTEND;TZID=America/New_York:20260422T170000
DTSTAMP:20260421T204105
CREATED:20260402T153531Z
LAST-MODIFIED:20260402T153531Z
UID:10002841-1776871800-1776877200@www.smcvt.edu
SUMMARY:Bees & Trees
DESCRIPTION:Join the Ecological Restoration Crew in welcoming Spring at the tree nursery and pollinator garden (inbetween Alliot & Joyce)! Enjoy the fresh air as we prune\, mulch\, and celebrate the bees & trees with birch beer and honey lemonade! All SMC community members are welcome.
URL:https://www.smcvt.edu/event/bees-trees/
CATEGORIES:The Patrick '61 and Marcelle Leahy Institute for the Environment
ATTACH;FMTTYPE=image/jpeg:https://www.smcvt.edu/wp-content/uploads/2026/03/BTFlyer-scaled.jpg
END:VEVENT
END:VCALENDAR