BEGIN:VCALENDAR
VERSION:2.0
PRODID:-//Saint Michael&#039;s College - ECPv6.15.14//NONSGML v1.0//EN
CALSCALE:GREGORIAN
METHOD:PUBLISH
X-ORIGINAL-URL:https://www.smcvt.edu
X-WR-CALDESC:Events for Saint Michael&#039;s College
REFRESH-INTERVAL;VALUE=DURATION:PT1H
X-Robots-Tag:noindex
X-PUBLISHED-TTL:PT1H
BEGIN:VTIMEZONE
TZID:America/New_York
BEGIN:DAYLIGHT
TZOFFSETFROM:-0500
TZOFFSETTO:-0400
TZNAME:EDT
DTSTART:20230312T070000
END:DAYLIGHT
BEGIN:STANDARD
TZOFFSETFROM:-0400
TZOFFSETTO:-0500
TZNAME:EST
DTSTART:20231105T060000
END:STANDARD
BEGIN:DAYLIGHT
TZOFFSETFROM:-0500
TZOFFSETTO:-0400
TZNAME:EDT
DTSTART:20240310T070000
END:DAYLIGHT
BEGIN:STANDARD
TZOFFSETFROM:-0400
TZOFFSETTO:-0500
TZNAME:EST
DTSTART:20241103T060000
END:STANDARD
BEGIN:DAYLIGHT
TZOFFSETFROM:-0500
TZOFFSETTO:-0400
TZNAME:EDT
DTSTART:20250309T070000
END:DAYLIGHT
BEGIN:STANDARD
TZOFFSETFROM:-0400
TZOFFSETTO:-0500
TZNAME:EST
DTSTART:20251102T060000
END:STANDARD
BEGIN:DAYLIGHT
TZOFFSETFROM:-0500
TZOFFSETTO:-0400
TZNAME:EDT
DTSTART:20260308T070000
END:DAYLIGHT
BEGIN:STANDARD
TZOFFSETFROM:-0400
TZOFFSETTO:-0500
TZNAME:EST
DTSTART:20261101T060000
END:STANDARD
BEGIN:DAYLIGHT
TZOFFSETFROM:-0500
TZOFFSETTO:-0400
TZNAME:EDT
DTSTART:20270314T070000
END:DAYLIGHT
BEGIN:STANDARD
TZOFFSETFROM:-0400
TZOFFSETTO:-0500
TZNAME:EST
DTSTART:20271107T060000
END:STANDARD
END:VTIMEZONE
BEGIN:VEVENT
DTSTART;TZID=America/New_York:20260415T180000
DTEND;TZID=America/New_York:20260415T190000
DTSTAMP:20260420T143359
CREATED:20260119T143815Z
LAST-MODIFIED:20260211T163250Z
UID:10002803-1776276000-1776279600@www.smcvt.edu
SUMMARY:Open Mike: Admitted Student Webinar\, Alumni & Career Outcomes
DESCRIPTION:The Office of Admissions is excited to announce that we are hosting a webinar series running February through April! The series\, Open Mike\, will touch on 6 different subject areas and be hosted by various campus partners to ensure you not only make new campus connections but get the inside scoop on all things St. Mike’s. All the events will take place on Zoom at 6 PM EST. \nIn this session:\nHear from members of our Alumni Office\, Alumni Board of Directors\, and Career Services representatives present to talk about our resources and alumni networking events. Don’t count yourself out of this one! \nRegister for this webinar
URL:https://www.smcvt.edu/event/open-mike-admitted-student-webinar-alumni-career-outcomes/
LOCATION:Zoom\, Virtual Event
CATEGORIES:Admission
ATTACH;FMTTYPE=image/png:https://www.smcvt.edu/wp-content/uploads/2026/01/Career-Alumni-Outcomes-1.png
END:VEVENT
BEGIN:VEVENT
DTSTART;TZID=America/New_York:20260408T180000
DTEND;TZID=America/New_York:20260408T190000
DTSTAMP:20260420T143359
CREATED:20260119T143455Z
LAST-MODIFIED:20260211T162611Z
UID:10002802-1775671200-1775674800@www.smcvt.edu
SUMMARY:Open Mike: Admitted Student Webinar\, Student Support Services
DESCRIPTION:The Office of Admissions is excited to announce that we are hosting a webinar series running February through April! The series\, Open Mike\, will touch on 6 different subject areas and be hosted by various campus partners to ensure you not only make new campus connections but get the inside scoop on all things St. Mike’s. All the events will take place on Zoom at 6 PM EST. \nIn this session:\nHear from campus partners in our new Student Success Center and Bergeron Wellness Center to gain a deeper understanding of how students are supported during their time here at St. Mike’s. \nRegister for this webinar
URL:https://www.smcvt.edu/event/open-mike-admitted-student-webinar-student-support-services/
LOCATION:Zoom\, Virtual Event
CATEGORIES:Admission
ATTACH;FMTTYPE=image/png:https://www.smcvt.edu/wp-content/uploads/2026/01/Student-Support-Services-1.png
END:VEVENT
BEGIN:VEVENT
DTSTART;TZID=America/New_York:20260331T180000
DTEND;TZID=America/New_York:20260331T190000
DTSTAMP:20260420T143359
CREATED:20260217T161656Z
LAST-MODIFIED:20260217T161656Z
UID:10002825-1774980000-1774983600@www.smcvt.edu
SUMMARY:Open Mike: Admitted Student Webinar\, New Emergency Services Major
DESCRIPTION:Meet the Director and student responders of our new Emergency Services major. If you’re curious about emergency medicine and real-world field experience\, join us to start your path in saving lives.
URL:https://www.smcvt.edu/event/open-mike-admitted-student-webinar-new-emergency-services-major/
LOCATION:Zoom\, Virtual Event
CATEGORIES:Admission
ATTACH;FMTTYPE=image/png:https://www.smcvt.edu/wp-content/uploads/2026/02/ES.png
END:VEVENT
BEGIN:VEVENT
DTSTART;TZID=America/New_York:20260327T150000
DTEND;TZID=America/New_York:20260328T150000
DTSTAMP:20260420T143359
CREATED:20260120T170231Z
LAST-MODIFIED:20260217T145427Z
UID:10002805-1774623600-1774710000@www.smcvt.edu
SUMMARY:Admitted Student Weekend
DESCRIPTION:Welcome home\, future Purple Knights! We invite you and your family to spend two days discovering the heart of our campus. From a student overnight to faculty-led academic sessions\, come connect with future classmates and get a real feel for life at St. Mike’s. \nRegister for Admitted Student Weekend \nVolunteer as an alum at Admitted Student Weekend! \n  \n\nFriday: St. Mike’s Socials\nEvent Check-In: 3:00-6:30 PM | Event Begins 6:30 PM\n\nStudents: Enjoy a variety of social activities and entertainment before spending the night on campus with a student host.\nNote: The student overnight is optional; students who prefer to stay off campus are welcome to join us for the Friday programming and return Saturday morning.\nParents: While your student enjoys the festivities\, you are invited to a reception with campus community members.\n\n  \n\nSaturday: The Academic Experience\nEvent Check-In: 8:30 AM | Event Begins: 9:00 AM\nJoin us for an immersive day featuring interactive academic sessions\, a campus-wide resource fair\, guided tours and more. Discover the many ways you’ll thrive as a member of the Purple Knight family.
URL:https://www.smcvt.edu/event/admitted-student-weekend/
LOCATION:Saint Michael’s College\, One Winooski Park\, Colchester\, VT\, 05439\, United States
CATEGORIES:Admission,Alumni Events
END:VEVENT
BEGIN:VEVENT
DTSTART;TZID=America/New_York:20260312T180000
DTEND;TZID=America/New_York:20260312T190000
DTSTAMP:20260420T143359
CREATED:20260119T141915Z
LAST-MODIFIED:20260211T162538Z
UID:10002801-1773338400-1773342000@www.smcvt.edu
SUMMARY:Open Mike: Admitted Student Webinar\, Academics: Honors Program
DESCRIPTION:The Office of Admissions is excited to announce that we are hosting a webinar series running February through April! The series\, Open Mike\, will touch on 6 different subject areas and be hosted by various campus partners to ensure you not only make new campus connections but get the inside scoop on all things St. Mike’s. All the events will take place on Zoom at 6 PM EST . \nIn this session:\nWe will hear from the Director of the Honors Program and various professors on what the Honors program is all about! Learn more about classes and opportunities while getting your questions answers about what it’s like to be an Honors student at St. Mike’s. \nhttps://admission.smcvt.edu/register/?id=e2693064-d159-49bf-a4d3-4dbdf8e50dc1
URL:https://www.smcvt.edu/event/open-mike-admitted-student-webinar-academics-honors-program/
LOCATION:Zoom\, Virtual Event
CATEGORIES:Admission
END:VEVENT
BEGIN:VEVENT
DTSTART;TZID=America/New_York:20260310T180000
DTEND;TZID=America/New_York:20260310T190000
DTSTAMP:20260420T143359
CREATED:20260119T141451Z
LAST-MODIFIED:20260211T162156Z
UID:10002800-1773165600-1773169200@www.smcvt.edu
SUMMARY:Open Mike: Admitted Student Webinar\, Academics
DESCRIPTION:The Office of Admissions is excited to announce that we are hosting a webinar series running February through April! The series\, Open Mike\, will touch on 6 different subject areas and be hosted by various campus partners to ensure you not only make new campus connections but get the inside scoop on all things St. Mike’s. All the events will take place on Zoom at 6 PM EST. \nIn this session:\nWe will have professors guiding the conversation about the academic experience\, as a whole\, at Saint Michael’s College and what opportunities are available to students (i.e. internships\, study abroad\, research\, and more). Whether you’re looking to learn more about a major\, class schedules\, or have a question about classes offered – this session is for you! \nRegister for this webinar
URL:https://www.smcvt.edu/event/open-mike-admitted-student-webinar-academics/
LOCATION:Zoom\, Virtual Event
CATEGORIES:Admission
ATTACH;FMTTYPE=image/png:https://www.smcvt.edu/wp-content/uploads/2026/01/Academics.png
END:VEVENT
BEGIN:VEVENT
DTSTART;TZID=America/New_York:20260304T180000
DTEND;TZID=America/New_York:20260304T190000
DTSTAMP:20260420T143359
CREATED:20260119T141215Z
LAST-MODIFIED:20260211T162042Z
UID:10002799-1772647200-1772650800@www.smcvt.edu
SUMMARY:Open Mike: Admitted Student Webinar\, Purple Knight Parents!
DESCRIPTION:The Office of Admissions is excited to announce that we are hosting a webinar series running February through April! The series\, Open Mike\, will touch on 6 different subject areas and be hosted by various campus partners to ensure you not only make new campus connections but get the inside scoop on all things St. Mike’s. All the events will take place on Zoom at 6 PM EST. \nIn this session:\nOur admissions counselors will cover next steps for admitted students\, provide tips for the college search process\, share our parent Facebook group\, and dedicate time for a Q&A session. We can’t wait to hear from you. \nRegister for this webinar
URL:https://www.smcvt.edu/event/open-mike-admitted-student-webinar-purple-knight-parents/
LOCATION:Zoom\, Virtual Event
CATEGORIES:Admission
ATTACH;FMTTYPE=image/png:https://www.smcvt.edu/wp-content/uploads/2026/01/Purple-Knight-Parents.png
END:VEVENT
BEGIN:VEVENT
DTSTART;TZID=America/New_York:20260221T080000
DTEND;TZID=America/New_York:20260221T150000
DTSTAMP:20260420T143359
CREATED:20260120T171148Z
LAST-MODIFIED:20260120T171315Z
UID:10002806-1771660800-1771686000@www.smcvt.edu
SUMMARY:Winter Open House
DESCRIPTION:Experience the genuine hospitality and warmth of the Purple Knight community at our Winter Open House! \n“I have visited several different colleges\, however St. Mike’s has a community feel that is unbeatable!!! Every single person whether it was a student\, faculty\, or staff that we came across was extremely friendly and welcoming.” – St. Mike’s Admission Visitor \nWe can’t wait to welcome you to campus! \nRegister for Winter Open House
URL:https://www.smcvt.edu/event/winter-open-house/
LOCATION:McCarthy Arts Center
CATEGORIES:Admission
END:VEVENT
BEGIN:VEVENT
DTSTART;TZID=America/New_York:20260211T180000
DTEND;TZID=America/New_York:20260211T180000
DTSTAMP:20260420T143400
CREATED:20260119T140806Z
LAST-MODIFIED:20260211T153558Z
UID:10002798-1770832800-1770832800@www.smcvt.edu
SUMMARY:Open Mike: Admitted Student Webinar\, Campus Life & Community
DESCRIPTION:The Office of Admissions is excited to announce that we are hosting a webinar series running February through April! The series\, Open Mike\, will touch on 6 different subject areas and be hosted by various campus partners to ensure you not only make new campus connections but get the inside scoop on all things St. Mike’s. All the events will take place on Zoom at 6 PM EST. \nIn this session:\nIn this session\, our students will share insights on residential life\, clubs & organizations\, community and traditions\, and more. Ask questions and hear from our student ambassadors about what they love most about St. Mike’s. \nRegister for this webinar
URL:https://www.smcvt.edu/event/open-mike-admitted-student-webinar-campus-life-community/
LOCATION:Zoom\, Virtual Event
CATEGORIES:Admission
ATTACH;FMTTYPE=image/png:https://www.smcvt.edu/wp-content/uploads/2026/01/Campus-Life-Community.png
END:VEVENT
BEGIN:VEVENT
DTSTART;TZID=America/New_York:20260204T180000
DTEND;TZID=America/New_York:20260204T190000
DTSTAMP:20260420T143400
CREATED:20260119T140627Z
LAST-MODIFIED:20260119T144011Z
UID:10002804-1770228000-1770231600@www.smcvt.edu
SUMMARY:Open Mike: Admitted Student Webinar\, You're Admitted! What's Next?
DESCRIPTION:The Office of Admissions is excited to announce that we are hosting a webinar series running February through April! The series\, Open Mike\, will touch on 6 different subject areas and be hosted by various campus partners to ensure you not only make new campus connections but get the inside scoop on all things St. Mike’s. All the events will take place on Zoom at 6 PM EST. \nIn this session:\nAdmissions Counselors and Financial Aid will guide the conversation on what you can expect and your next steps as an admitted student or enrolled student. Questions are encouraged. We will discuss upcoming admitted student events\, key deadlines\, how to navigate portals\, understanding your financial aid package and more.
URL:https://www.smcvt.edu/event/open-mike-admitted-student-webinar-youre-admitted-whats-next/
LOCATION:Zoom\, Virtual Event
CATEGORIES:Admission
ATTACH;FMTTYPE=image/png:https://www.smcvt.edu/wp-content/uploads/2026/01/Open.png
END:VEVENT
BEGIN:VEVENT
DTSTART;TZID=America/New_York:20251115T100000
DTEND;TZID=America/New_York:20251115T140000
DTSTAMP:20260420T143400
CREATED:20250708T202033Z
LAST-MODIFIED:20250708T202033Z
UID:10001969-1763200800-1763215200@www.smcvt.edu
SUMMARY:Fall Open House
DESCRIPTION:Fall Open House \nSaturday\, November 15\, from 10 a.m. to 2 p.m.\nMcCarthy Arts Center \nWe will be welcoming prospective students and their families to campus to explore academics and get a feel for the real student experience. \nLearn more about the Fall Open House
URL:https://www.smcvt.edu/event/fall-open-house-3/
LOCATION:McCarthy Arts Center
CATEGORIES:Admission
ATTACH;FMTTYPE=image/jpeg:https://www.smcvt.edu/wp-content/uploads/2022/08/Campus_Fall_Foliage_1000x650.jpg
END:VEVENT
BEGIN:VEVENT
DTSTART;TZID=America/New_York:20251025T100000
DTEND;TZID=America/New_York:20251025T160000
DTSTAMP:20260420T143400
CREATED:20250708T203920Z
LAST-MODIFIED:20250708T203920Z
UID:10001975-1761386400-1761408000@www.smcvt.edu
SUMMARY:Fall Open House
DESCRIPTION:Fall Open House \nSaturday\, October 25\, from 10 a.m. to 2 p.m. \nWe will be welcoming prospective students and their families to campus to explore academics and get a feel for the real student experience. \nLearn more about the Fall Open House
URL:https://www.smcvt.edu/event/fall-open-house-5/
LOCATION:McCarthy Arts Center
CATEGORIES:Admission
ATTACH;FMTTYPE=image/jpeg:https://www.smcvt.edu/wp-content/uploads/2023/08/Fall_Welcome_Back_Bash.jpg
END:VEVENT
BEGIN:VEVENT
DTSTART;TZID=America/New_York:20250927T100000
DTEND;TZID=America/New_York:20250927T140000
DTSTAMP:20260420T143400
CREATED:20250708T203655Z
LAST-MODIFIED:20250708T203655Z
UID:10001974-1758967200-1758981600@www.smcvt.edu
SUMMARY:Fall Open House
DESCRIPTION:Fall Open House \nSaturday\, September 27\, from 10 a.m. to 2 p.m. \nProspective students and their parents will join us on campus for a day of exploring academics and getting to know the real student experience. \nLearn more about the Fall Open House
URL:https://www.smcvt.edu/event/fall-open-house-4/
LOCATION:McCarthy Arts Center
CATEGORIES:Admission
ATTACH;FMTTYPE=image/jpeg:https://www.smcvt.edu/wp-content/uploads/2020/09/fall-bike.jpg
END:VEVENT
BEGIN:VEVENT
DTSTART;TZID=America/New_York:20250412T100000
DTEND;TZID=America/New_York:20250412T143000
DTSTAMP:20260420T143400
CREATED:20250221T143018Z
LAST-MODIFIED:20250221T143018Z
UID:10001344-1744452000-1744468200@www.smcvt.edu
SUMMARY:Admitted Student Day
DESCRIPTION:Admitted Student Day\nSaturday\, April 12\, from 10 a.m. to 2:30 p.m. \nExplore your new home as a Purple Knight! Meet faculty\, connect with future classmates\, explore your major\, and get the full Purple Knight experience! \nClick here to register
URL:https://www.smcvt.edu/event/admitted-student-day-3/
LOCATION:Hoehl Welcome Center\, VT
CATEGORIES:Admission
ATTACH;FMTTYPE=image/jpeg:https://www.smcvt.edu/wp-content/uploads/2023/10/counselors_openhouse-e1750169351320.jpg
END:VEVENT
BEGIN:VEVENT
DTSTART;TZID=America/New_York:20250329T100000
DTEND;TZID=America/New_York:20250329T143000
DTSTAMP:20260420T143400
CREATED:20250221T142830Z
LAST-MODIFIED:20250221T142830Z
UID:10001343-1743242400-1743258600@www.smcvt.edu
SUMMARY:Admitted Student Day
DESCRIPTION:Admitted Student Day\nSaturday\, March 29\, from 10 a.m. to 2:30 p.m. \nExplore your new home as a Purple Knight! Meet faculty\, connect with future classmates\, explore your major\, and get the full Purple Knight experience! \nClick here to register
URL:https://www.smcvt.edu/event/admitted-student-day-2/
LOCATION:Hoehl Welcome Center\, VT
CATEGORIES:Admission
ATTACH;FMTTYPE=image/jpeg:https://www.smcvt.edu/wp-content/uploads/2023/10/counselors_openhouse-e1750169351320.jpg
END:VEVENT
BEGIN:VEVENT
DTSTART;TZID=America/New_York:20250221T100000
DTEND;TZID=America/New_York:20250221T143000
DTSTAMP:20260420T143400
CREATED:20250221T142712Z
LAST-MODIFIED:20250221T142838Z
UID:10001342-1740132000-1740148200@www.smcvt.edu
SUMMARY:Admitted Student Day
DESCRIPTION:Admitted Student Day\nSaturday\, February 22\, from 10 a.m. to 2:30 p.m. \nExplore your new home as a Purple Knight! Meet faculty\, connect with future classmates\, explore your major\, and get the full Purple Knight experience! \nClick here to register
URL:https://www.smcvt.edu/event/admitted-student-day/
LOCATION:Hoehl Welcome Center\, VT
CATEGORIES:Admission
ATTACH;FMTTYPE=image/jpeg:https://www.smcvt.edu/wp-content/uploads/2023/10/counselors_openhouse-e1750169351320.jpg
END:VEVENT
BEGIN:VEVENT
DTSTART;TZID=America/New_York:20241116T093000
DTEND;TZID=America/New_York:20241116T143000
DTSTAMP:20260420T143400
CREATED:20240919T135927Z
LAST-MODIFIED:20240919T135927Z
UID:10001080-1731749400-1731767400@www.smcvt.edu
SUMMARY:Fall Open House
DESCRIPTION:Fall Open House \nSaturday\, November 16\, 2024\n10:00–2:30 PM \nGet to know the place where you’ll not only be prepared for academic excellence and career success – you’ll embark on the journey to discover your possibilities and potential in the world. Talk with current students\, meet our outstanding faculty\, tour our beautiful campus\, learn about our 40+ majors\, and more. \nRegister Now
URL:https://www.smcvt.edu/event/fall-open-house-2/
LOCATION:Hoehl Welcome Center\, VT
CATEGORIES:Admission
ATTACH;FMTTYPE=image/jpeg:https://www.smcvt.edu/wp-content/uploads/2020/10/hoehl.jpg
END:VEVENT
BEGIN:VEVENT
DTSTART;TZID=America/New_York:20240921T093000
DTEND;TZID=America/New_York:20240921T143000
DTSTAMP:20260420T143400
CREATED:20240919T135644Z
LAST-MODIFIED:20240919T135644Z
UID:10001079-1726911000-1726929000@www.smcvt.edu
SUMMARY:Fall Open House
DESCRIPTION:Fall Open House \nSaturday\, September 21\, 2024\n10:00–2:30 PM \nGet to know the place where you’ll not only be prepared for academic excellence and career success – you’ll embark on the journey to discover your possibilities and potential in the world. Talk with current students\, meet our outstanding faculty\, tour our beautiful campus\, learn about our 40+ majors\, and more. \nRegister Now
URL:https://www.smcvt.edu/event/fall-open-house/
LOCATION:Hoehl Welcome Center\, VT
CATEGORIES:Admission
ATTACH;FMTTYPE=image/jpeg:https://www.smcvt.edu/wp-content/uploads/2020/10/hoehl.jpg
END:VEVENT
END:VCALENDAR