BEGIN:VCALENDAR
VERSION:2.0
PRODID:-//Saint Michael&#039;s College - ECPv6.15.14//NONSGML v1.0//EN
CALSCALE:GREGORIAN
METHOD:PUBLISH
X-WR-CALNAME:Saint Michael&#039;s College
X-ORIGINAL-URL:https://www.smcvt.edu
X-WR-CALDESC:Events for Saint Michael&#039;s College
REFRESH-INTERVAL;VALUE=DURATION:PT1H
X-Robots-Tag:noindex
X-PUBLISHED-TTL:PT1H
BEGIN:VTIMEZONE
TZID:America/New_York
BEGIN:DAYLIGHT
TZOFFSETFROM:-0500
TZOFFSETTO:-0400
TZNAME:EDT
DTSTART:20240310T070000
END:DAYLIGHT
BEGIN:STANDARD
TZOFFSETFROM:-0400
TZOFFSETTO:-0500
TZNAME:EST
DTSTART:20241103T060000
END:STANDARD
BEGIN:DAYLIGHT
TZOFFSETFROM:-0500
TZOFFSETTO:-0400
TZNAME:EDT
DTSTART:20250309T070000
END:DAYLIGHT
BEGIN:STANDARD
TZOFFSETFROM:-0400
TZOFFSETTO:-0500
TZNAME:EST
DTSTART:20251102T060000
END:STANDARD
BEGIN:DAYLIGHT
TZOFFSETFROM:-0500
TZOFFSETTO:-0400
TZNAME:EDT
DTSTART:20260308T070000
END:DAYLIGHT
BEGIN:STANDARD
TZOFFSETFROM:-0400
TZOFFSETTO:-0500
TZNAME:EST
DTSTART:20261101T060000
END:STANDARD
END:VTIMEZONE
BEGIN:VEVENT
DTSTART;TZID=America/New_York:20250402T120000
DTEND;TZID=America/New_York:20250402T150000
DTSTAMP:20260421T184525
CREATED:20250312T231427Z
LAST-MODIFIED:20250312T231427Z
UID:10001397-1743595200-1743606000@www.smcvt.edu
SUMMARY:Baseball vs Franklin Pierce
DESCRIPTION:Baseball vs Franklin Pierce Colchester\, VT
URL:https://www.smcvt.edu/event/baseball-vs-franklin-pierce/
CATEGORIES:Athletics,Upload 2025 Spring
END:VEVENT
BEGIN:VEVENT
DTSTART;TZID=America/New_York:20250402T150000
DTEND;TZID=America/New_York:20250402T180000
DTSTAMP:20260421T184525
CREATED:20250312T231428Z
LAST-MODIFIED:20250312T231428Z
UID:10001398-1743606000-1743616800@www.smcvt.edu
SUMMARY:Baseball vs Franklin Pierce
DESCRIPTION:Baseball vs Franklin Pierce Colchester\, VT
URL:https://www.smcvt.edu/event/baseball-vs-franklin-pierce-2/
CATEGORIES:Athletics,Upload 2025 Spring
END:VEVENT
BEGIN:VEVENT
DTSTART;TZID=America/New_York:20250405T110000
DTEND;TZID=America/New_York:20250405T140000
DTSTAMP:20260421T184525
CREATED:20250312T231720Z
LAST-MODIFIED:20250312T231720Z
UID:10001404-1743850800-1743861600@www.smcvt.edu
SUMMARY:Baseball vs Assumption
DESCRIPTION:Baseball vs Assumption Colchester\, VT
URL:https://www.smcvt.edu/event/baseball-vs-assumption/
CATEGORIES:Athletics,Upload 2025 Spring
END:VEVENT
BEGIN:VEVENT
DTSTART;TZID=America/New_York:20250405T140000
DTEND;TZID=America/New_York:20250405T170000
DTSTAMP:20260421T184525
CREATED:20250312T231722Z
LAST-MODIFIED:20250312T231722Z
UID:10001406-1743861600-1743872400@www.smcvt.edu
SUMMARY:Baseball vs Assumption
DESCRIPTION:Baseball vs Assumption Colchester\, VT
URL:https://www.smcvt.edu/event/baseball-vs-assumption-2/
CATEGORIES:Athletics,Upload 2025 Spring
END:VEVENT
BEGIN:VEVENT
DTSTART;TZID=America/New_York:20250406T120000
DTEND;TZID=America/New_York:20250406T150000
DTSTAMP:20260421T184525
CREATED:20250312T231823Z
LAST-MODIFIED:20250312T231823Z
UID:10001410-1743940800-1743951600@www.smcvt.edu
SUMMARY:Baseball vs Assumption
DESCRIPTION:Baseball vs Assumption Colchester\, VT
URL:https://www.smcvt.edu/event/baseball-vs-assumption-3/
CATEGORIES:Athletics,Upload 2025 Spring
END:VEVENT
BEGIN:VEVENT
DTSTART;TZID=America/New_York:20250406T150000
DTEND;TZID=America/New_York:20250406T180000
DTSTAMP:20260421T184525
CREATED:20250312T231825Z
LAST-MODIFIED:20250312T231825Z
UID:10001412-1743951600-1743962400@www.smcvt.edu
SUMMARY:Baseball vs Assumption
DESCRIPTION:Baseball vs Assumption Colchester\, VT
URL:https://www.smcvt.edu/event/baseball-vs-assumption-4/
CATEGORIES:Athletics,Upload 2025 Spring
END:VEVENT
BEGIN:VEVENT
DTSTART;TZID=America/New_York:20250412T110000
DTEND;TZID=America/New_York:20250412T140000
DTSTAMP:20260421T184525
CREATED:20250312T232022Z
LAST-MODIFIED:20250312T232022Z
UID:10001416-1744455600-1744466400@www.smcvt.edu
SUMMARY:Baseball vs Adelphi
DESCRIPTION:Baseball vs Adelphi Colchester\, VT
URL:https://www.smcvt.edu/event/baseball-vs-adelphi/
CATEGORIES:Athletics,Upload 2025 Spring
END:VEVENT
BEGIN:VEVENT
DTSTART;TZID=America/New_York:20250412T140000
DTEND;TZID=America/New_York:20250412T170000
DTSTAMP:20260421T184525
CREATED:20250312T232215Z
LAST-MODIFIED:20250312T232215Z
UID:10001420-1744466400-1744477200@www.smcvt.edu
SUMMARY:Baseball vs Adelphi
DESCRIPTION:Baseball vs Adelphi Colchester\, VT
URL:https://www.smcvt.edu/event/baseball-vs-adelphi-2/
CATEGORIES:Athletics,Upload 2025 Spring
END:VEVENT
BEGIN:VEVENT
DTSTART;TZID=America/New_York:20250413T120000
DTEND;TZID=America/New_York:20250413T150000
DTSTAMP:20260421T184525
CREATED:20250312T232219Z
LAST-MODIFIED:20250312T232219Z
UID:10001423-1744545600-1744556400@www.smcvt.edu
SUMMARY:Baseball vs Pace
DESCRIPTION:Baseball vs Pace Colchester\, VT
URL:https://www.smcvt.edu/event/baseball-vs-pace/
CATEGORIES:Athletics,Upload 2025 Spring
END:VEVENT
BEGIN:VEVENT
DTSTART;TZID=America/New_York:20250413T150000
DTEND;TZID=America/New_York:20250413T180000
DTSTAMP:20260421T184525
CREATED:20250312T232314Z
LAST-MODIFIED:20250312T232314Z
UID:10001425-1744556400-1744567200@www.smcvt.edu
SUMMARY:Baseball vs Pace
DESCRIPTION:Baseball vs Pace Colchester\, VT
URL:https://www.smcvt.edu/event/baseball-vs-pace-2/
CATEGORIES:Athletics,Upload 2025 Spring
END:VEVENT
BEGIN:VEVENT
DTSTART;TZID=America/New_York:20250418T120000
DTEND;TZID=America/New_York:20250418T150000
DTSTAMP:20260421T184525
CREATED:20250312T232413Z
LAST-MODIFIED:20250312T232413Z
UID:10001429-1744977600-1744988400@www.smcvt.edu
SUMMARY:Baseball vs Southern New Hampshire
DESCRIPTION:Baseball vs Southern New Hampshire Colchester\, VT
URL:https://www.smcvt.edu/event/baseball-vs-southern-new-hampshire/
CATEGORIES:Athletics,Upload 2025 Spring
END:VEVENT
BEGIN:VEVENT
DTSTART;TZID=America/New_York:20250418T150000
DTEND;TZID=America/New_York:20250418T180000
DTSTAMP:20260421T184525
CREATED:20250312T232416Z
LAST-MODIFIED:20250312T232416Z
UID:10001431-1744988400-1744999200@www.smcvt.edu
SUMMARY:Baseball vs Southern New Hampshire
DESCRIPTION:Baseball vs Southern New Hampshire Colchester\, VT
URL:https://www.smcvt.edu/event/baseball-vs-southern-new-hampshire-2/
CATEGORIES:Athletics,Upload 2025 Spring
END:VEVENT
BEGIN:VEVENT
DTSTART;TZID=America/New_York:20250419T120000
DTEND;TZID=America/New_York:20250419T150000
DTSTAMP:20260421T184525
CREATED:20250312T232522Z
LAST-MODIFIED:20250312T232522Z
UID:10001436-1745064000-1745074800@www.smcvt.edu
SUMMARY:Baseball vs Southern New Hampshire
DESCRIPTION:Baseball vs Southern New Hampshire Colchester\, VT
URL:https://www.smcvt.edu/event/baseball-vs-southern-new-hampshire-3/
CATEGORIES:Athletics,Upload 2025 Spring
END:VEVENT
BEGIN:VEVENT
DTSTART;TZID=America/New_York:20250419T150000
DTEND;TZID=America/New_York:20250419T180000
DTSTAMP:20260421T184525
CREATED:20250312T232620Z
LAST-MODIFIED:20250312T232620Z
UID:10001439-1745074800-1745085600@www.smcvt.edu
SUMMARY:Baseball vs Southern New Hampshire
DESCRIPTION:Baseball vs Southern New Hampshire Colchester\, VT
URL:https://www.smcvt.edu/event/baseball-vs-southern-new-hampshire-4/
CATEGORIES:Athletics,Upload 2025 Spring
END:VEVENT
BEGIN:VEVENT
DTSTART;TZID=America/New_York:20250423T120000
DTEND;TZID=America/New_York:20250423T150000
DTSTAMP:20260421T184525
CREATED:20250312T232719Z
LAST-MODIFIED:20250312T232719Z
UID:10001444-1745409600-1745420400@www.smcvt.edu
SUMMARY:Baseball at Franklin Pierce
DESCRIPTION:Baseball at Franklin Pierce Rindge\, NH
URL:https://www.smcvt.edu/event/baseball-at-franklin-pierce/
CATEGORIES:Athletics,Upload 2025 Spring
END:VEVENT
BEGIN:VEVENT
DTSTART;TZID=America/New_York:20250423T150000
DTEND;TZID=America/New_York:20250423T180000
DTSTAMP:20260421T184525
CREATED:20250312T232720Z
LAST-MODIFIED:20250312T232720Z
UID:10001445-1745420400-1745431200@www.smcvt.edu
SUMMARY:Baseball at Franklin Pierce
DESCRIPTION:Baseball at Franklin Pierce Rindge\, NH
URL:https://www.smcvt.edu/event/baseball-at-franklin-pierce-2/
CATEGORIES:Athletics,Upload 2025 Spring
END:VEVENT
BEGIN:VEVENT
DTSTART;TZID=America/New_York:20250427T120000
DTEND;TZID=America/New_York:20250427T150000
DTSTAMP:20260421T184525
CREATED:20250312T232824Z
LAST-MODIFIED:20250312T232824Z
UID:10001453-1745755200-1745766000@www.smcvt.edu
SUMMARY:Baseball vs American International
DESCRIPTION:Baseball vs American International Colchester\, VT
URL:https://www.smcvt.edu/event/baseball-vs-american-international/
CATEGORIES:Athletics,Upload 2025 Spring
END:VEVENT
BEGIN:VEVENT
DTSTART;TZID=America/New_York:20250427T150000
DTEND;TZID=America/New_York:20250427T180000
DTSTAMP:20260421T184525
CREATED:20250312T232918Z
LAST-MODIFIED:20250312T232918Z
UID:10001454-1745766000-1745776800@www.smcvt.edu
SUMMARY:Baseball vs American International
DESCRIPTION:Baseball vs American International Colchester\, VT
URL:https://www.smcvt.edu/event/baseball-vs-american-international-2/
CATEGORIES:Athletics,Upload 2025 Spring
END:VEVENT
END:VCALENDAR