BEGIN:VCALENDAR
VERSION:2.0
PRODID:-//Saint Michael&#039;s College - ECPv6.15.14//NONSGML v1.0//EN
CALSCALE:GREGORIAN
METHOD:PUBLISH
X-ORIGINAL-URL:https://www.smcvt.edu
X-WR-CALDESC:Events for Saint Michael&#039;s College
REFRESH-INTERVAL;VALUE=DURATION:PT1H
X-Robots-Tag:noindex
X-PUBLISHED-TTL:PT1H
BEGIN:VTIMEZONE
TZID:America/New_York
BEGIN:DAYLIGHT
TZOFFSETFROM:-0500
TZOFFSETTO:-0400
TZNAME:EDT
DTSTART:20240310T070000
END:DAYLIGHT
BEGIN:STANDARD
TZOFFSETFROM:-0400
TZOFFSETTO:-0500
TZNAME:EST
DTSTART:20241103T060000
END:STANDARD
BEGIN:DAYLIGHT
TZOFFSETFROM:-0500
TZOFFSETTO:-0400
TZNAME:EDT
DTSTART:20250309T070000
END:DAYLIGHT
BEGIN:STANDARD
TZOFFSETFROM:-0400
TZOFFSETTO:-0500
TZNAME:EST
DTSTART:20251102T060000
END:STANDARD
BEGIN:DAYLIGHT
TZOFFSETFROM:-0500
TZOFFSETTO:-0400
TZNAME:EDT
DTSTART:20260308T070000
END:DAYLIGHT
BEGIN:STANDARD
TZOFFSETFROM:-0400
TZOFFSETTO:-0500
TZNAME:EST
DTSTART:20261101T060000
END:STANDARD
END:VTIMEZONE
BEGIN:VEVENT
DTSTART;TZID=America/New_York:20251119T190000
DTEND;TZID=America/New_York:20251119T200000
DTSTAMP:20260424T081352
CREATED:20251103T173929Z
LAST-MODIFIED:20251103T173929Z
UID:10002725-1763578800-1763582400@www.smcvt.edu
SUMMARY:Sustaining International Collaboration via the Burlington–Honfleur Sister City Connection
DESCRIPTION:Learn about Honfleur\, France\, a historic port town and contemporary center for art and culture in Normandy\, and about it’s sister-city relationship with Burlington\, VT. Part of activities celebrating International Education Week.
URL:https://www.smcvt.edu/event/sustaining-international-collaboration-via-the-burlington-honfleur-sister-city-connection/
LOCATION:Farrell Room\, Saint Edmund’s Hall
CATEGORIES:Institute for Global Engagement
ATTACH;FMTTYPE=application/pdf:https://www.smcvt.edu/wp-content/uploads/2025/11/IEW-Poster-2025-3.pdf
END:VEVENT
END:VCALENDAR