BEGIN:VCALENDAR
VERSION:2.0
PRODID:-//Saint Michael&#039;s College - ECPv6.15.14//NONSGML v1.0//EN
CALSCALE:GREGORIAN
METHOD:PUBLISH
X-WR-CALNAME:Saint Michael&#039;s College
X-ORIGINAL-URL:https://www.smcvt.edu
X-WR-CALDESC:Events for Saint Michael&#039;s College
REFRESH-INTERVAL;VALUE=DURATION:PT1H
X-Robots-Tag:noindex
X-PUBLISHED-TTL:PT1H
BEGIN:VTIMEZONE
TZID:America/New_York
BEGIN:DAYLIGHT
TZOFFSETFROM:-0500
TZOFFSETTO:-0400
TZNAME:EDT
DTSTART:20230312T070000
END:DAYLIGHT
BEGIN:STANDARD
TZOFFSETFROM:-0400
TZOFFSETTO:-0500
TZNAME:EST
DTSTART:20231105T060000
END:STANDARD
BEGIN:DAYLIGHT
TZOFFSETFROM:-0500
TZOFFSETTO:-0400
TZNAME:EDT
DTSTART:20240310T070000
END:DAYLIGHT
BEGIN:STANDARD
TZOFFSETFROM:-0400
TZOFFSETTO:-0500
TZNAME:EST
DTSTART:20241103T060000
END:STANDARD
BEGIN:DAYLIGHT
TZOFFSETFROM:-0500
TZOFFSETTO:-0400
TZNAME:EDT
DTSTART:20250309T070000
END:DAYLIGHT
BEGIN:STANDARD
TZOFFSETFROM:-0400
TZOFFSETTO:-0500
TZNAME:EST
DTSTART:20251102T060000
END:STANDARD
END:VTIMEZONE
BEGIN:VEVENT
DTSTART;TZID=America/New_York:20241028T110000
DTEND;TZID=America/New_York:20241028T130000
DTSTAMP:20260422T110250
CREATED:20241025T162411Z
LAST-MODIFIED:20241025T162411Z
UID:10001220-1730113200-1730120400@www.smcvt.edu
SUMMARY:Study Abroad Office Q&A Info Table
DESCRIPTION:Study Abroad Office Q&A Info Table\n\nMonday\, October 28\, from 11 a.m. to 1 p.m. and 5 to 7 p.m.\nAlliot Lobby\n\n\nStop by and chat about study abroad options that might meet your needs and interests. Lots of opportunities to consider – summer\, semester\, internships\, academic study trips (faculty led). Explore!
URL:https://www.smcvt.edu/event/study-abroad-office-qa-info-table/2024-10-28/1/
LOCATION:Lobby\, Alliot Student Center
CATEGORIES:Study Abroad
ATTACH;FMTTYPE=image/png:https://www.smcvt.edu/wp-content/uploads/2024/10/Study-Abroad.png
END:VEVENT
BEGIN:VEVENT
DTSTART;TZID=America/New_York:20241028T170000
DTEND;TZID=America/New_York:20241028T190000
DTSTAMP:20260422T110251
CREATED:20241025T162411Z
LAST-MODIFIED:20241025T162411Z
UID:10001221-1730134800-1730142000@www.smcvt.edu
SUMMARY:Study Abroad Office Q&A Info Table
DESCRIPTION:Study Abroad Office Q&A Info Table\n\nMonday\, October 28\, from 11 a.m. to 1 p.m. and 5 to 7 p.m.\nAlliot Lobby\n\n\nStop by and chat about study abroad options that might meet your needs and interests. Lots of opportunities to consider – summer\, semester\, internships\, academic study trips (faculty led). Explore!
URL:https://www.smcvt.edu/event/study-abroad-office-qa-info-table/2024-10-28/2/
LOCATION:Lobby\, Alliot Student Center
CATEGORIES:Study Abroad
ATTACH;FMTTYPE=image/png:https://www.smcvt.edu/wp-content/uploads/2024/10/Study-Abroad.png
END:VEVENT
END:VCALENDAR