BEGIN:VCALENDAR
VERSION:2.0
PRODID:-//Saint Michael&#039;s College - ECPv6.15.14//NONSGML v1.0//EN
CALSCALE:GREGORIAN
METHOD:PUBLISH
X-WR-CALNAME:Saint Michael&#039;s College
X-ORIGINAL-URL:https://www.smcvt.edu
X-WR-CALDESC:Events for Saint Michael&#039;s College
REFRESH-INTERVAL;VALUE=DURATION:PT1H
X-Robots-Tag:noindex
X-PUBLISHED-TTL:PT1H
BEGIN:VTIMEZONE
TZID:America/New_York
BEGIN:DAYLIGHT
TZOFFSETFROM:-0500
TZOFFSETTO:-0400
TZNAME:EDT
DTSTART:20240310T070000
END:DAYLIGHT
BEGIN:STANDARD
TZOFFSETFROM:-0400
TZOFFSETTO:-0500
TZNAME:EST
DTSTART:20241103T060000
END:STANDARD
BEGIN:DAYLIGHT
TZOFFSETFROM:-0500
TZOFFSETTO:-0400
TZNAME:EDT
DTSTART:20250309T070000
END:DAYLIGHT
BEGIN:STANDARD
TZOFFSETFROM:-0400
TZOFFSETTO:-0500
TZNAME:EST
DTSTART:20251102T060000
END:STANDARD
BEGIN:DAYLIGHT
TZOFFSETFROM:-0500
TZOFFSETTO:-0400
TZNAME:EDT
DTSTART:20260308T070000
END:DAYLIGHT
BEGIN:STANDARD
TZOFFSETFROM:-0400
TZOFFSETTO:-0500
TZNAME:EST
DTSTART:20261101T060000
END:STANDARD
END:VTIMEZONE
BEGIN:VEVENT
DTSTART;TZID=America/New_York:20250910T170000
DTEND;TZID=America/New_York:20250910T183000
DTSTAMP:20260422T102714
CREATED:20250828T154433Z
LAST-MODIFIED:20250828T154433Z
UID:10002003-1757523600-1757529000@www.smcvt.edu
SUMMARY:Beyond Laudato Si': Ecology\, Theology\, and Everyday Life\, a Lecture by Dr. Christiana Zenner\, PhD\, of Fordham University
DESCRIPTION:Dr. Christiana Zenner\, PhD\, Associate Professor of Theology\, Science\, and Ethics at Fordham University will deliver a lecture on Laudato Si’ on the tenth anniversary year of the publication. Laudato Si’ is Pope Francis’s landmark encyclical that calls both the Catholic Church and the world to an “integral ecology\,” linking care for creation with justice for the poor and urging ecological conversion as a moral and spiritual responsibility for all. Dr. Zenner’s remarks will convey how Laudato Si’ has influenced the contemporary linking of the cry of the Earth and the cry of the poor into one vision of justice.
URL:https://www.smcvt.edu/event/beyond-laudato-si-ecology-theology-and-everyday-life-a-lecture-by-dr-christiana-zenner-phd-of-fordham-university/
LOCATION:Roy Room\, Dion Family Student Center
CATEGORIES:Division of Edmundite Mission
END:VEVENT
BEGIN:VEVENT
DTSTART;TZID=America/New_York:20250911T190000
DTEND;TZID=America/New_York:20250911T203000
DTSTAMP:20260422T102714
CREATED:20250424T155658Z
LAST-MODIFIED:20250509T140745Z
UID:10001955-1757617200-1757622600@www.smcvt.edu
SUMMARY:2025 Common Text Featured Author: Dr. Arvind Narayanan
DESCRIPTION:2025 Common Text Featured Author: Dr. Arvind Narayanan \nThursday\, September 11\, from 7 to 8:30 p.m.\nRecital Hall\, McCarthy Arts Center \nSaint Michael’s College is proud to present computer scientist Dr Arvind Narayanan\, the co-author of our timely Common Text\, “AI Snake Oil: What Artificial Intelligence Can Do\, What It Can’t\, and How to Tell the Difference”. Join us for his talk on a topic that has created both widespread excitement and anxiety about the future. \nIt will be followed by a Q&A with our community.
URL:https://www.smcvt.edu/event/2025-common-text-featured-author-dr-arvind-narayanan/
LOCATION:Recital Hall\, McCarthy Arts Center
CATEGORIES:Academic Affairs
ATTACH;FMTTYPE=image/jpeg:https://www.smcvt.edu/wp-content/uploads/2025/05/Narayanan_AI-Snake-Oil_Cover-scaled.jpg
END:VEVENT
BEGIN:VEVENT
DTSTART;TZID=America/New_York:20250916T170000
DTEND;TZID=America/New_York:20250916T180000
DTSTAMP:20260422T102714
CREATED:20250908T161808Z
LAST-MODIFIED:20250908T161808Z
UID:10002180-1758042000-1758045600@www.smcvt.edu
SUMMARY:Deliberative Democracy Series: Workplace Belonging and the Future of DEI
DESCRIPTION:Emiliano Void\, the founder and CEO of nuwave Equity Corporation\, will give a talk about workplace belonging and the future of DEI in business. \nThis event is sponsored by the College’s Division of Edmundite Mission; the Henry “Bud” Boucher\, Jr. ’69 Career Education Center; the Center for Student Diversity\, Empowerment and Community; the Institute for Equity and Justice; and the School of Business and Technology.
URL:https://www.smcvt.edu/event/deliberative-democracy-series-workplace-belonging-and-the-future-of-dei/
LOCATION:Roy Room\, Dion Family Student Center
CATEGORIES:Boucher Career Education Center,Business Administration and Accounting,Center for Student Diversity, Empowerment and Community (DEC),Division of Edmundite Mission,Institute for Equity and Justice
ATTACH;FMTTYPE=image/png:https://www.smcvt.edu/wp-content/uploads/2025/09/BizPoster.png
END:VEVENT
BEGIN:VEVENT
DTSTART;TZID=America/New_York:20250925T163000
DTEND;TZID=America/New_York:20250925T173000
DTSTAMP:20260422T102714
CREATED:20250924T141832Z
LAST-MODIFIED:20250924T141832Z
UID:10002334-1758817800-1758821400@www.smcvt.edu
SUMMARY:Deliberative Democracy Series: Courageous Leadership During Democratic Crises - Lessons from William S. Cohen
DESCRIPTION:Join Political Science and History alumnus Dr. Ryan LaRochelle ’10 for a talk on William S. Cohen’s role as the first Republican on the House Judiciary Committee to advance impeachment proceedings against President Richard Nixon during the Watergate Scandal\, his work on the Iran-Contra Committee\, and his efforts to work across party lines to maintain the military’s legitimacy while President Bill Clinton’s Secretary of Defense. Dr. LaRochelle is a senior lecturer at the William S. Cohen Institute for Leadership and Public Service at the University of Maine\, where he teach courses in its interdisciplinary Leadership Studies program\, in the Department of Political Science\, and in the Honors College. \nThis event is part of the Deliberative Democracy Lecture Series and is this year’s SMC History Department Kuntz Lecture.
URL:https://www.smcvt.edu/event/deliberative-democracy-series-courageous-leadership-during-democratic-crises-lessons-from-william-s-cohen/
LOCATION:Farrell Room\, Saint Edmund’s Hall
CATEGORIES:History
ATTACH;FMTTYPE=image/jpeg:https://www.smcvt.edu/wp-content/uploads/2025/09/Ryan-LaRochelle-talk-scaled.jpg
END:VEVENT
END:VCALENDAR