BEGIN:VCALENDAR
VERSION:2.0
PRODID:-//Saint Michael&#039;s College - ECPv6.15.14//NONSGML v1.0//EN
CALSCALE:GREGORIAN
METHOD:PUBLISH
X-WR-CALNAME:Saint Michael&#039;s College
X-ORIGINAL-URL:https://www.smcvt.edu
X-WR-CALDESC:Events for Saint Michael&#039;s College
REFRESH-INTERVAL;VALUE=DURATION:PT1H
X-Robots-Tag:noindex
X-PUBLISHED-TTL:PT1H
BEGIN:VTIMEZONE
TZID:America/New_York
BEGIN:DAYLIGHT
TZOFFSETFROM:-0500
TZOFFSETTO:-0400
TZNAME:EDT
DTSTART:20230312T070000
END:DAYLIGHT
BEGIN:STANDARD
TZOFFSETFROM:-0400
TZOFFSETTO:-0500
TZNAME:EST
DTSTART:20231105T060000
END:STANDARD
BEGIN:DAYLIGHT
TZOFFSETFROM:-0500
TZOFFSETTO:-0400
TZNAME:EDT
DTSTART:20240310T070000
END:DAYLIGHT
BEGIN:STANDARD
TZOFFSETFROM:-0400
TZOFFSETTO:-0500
TZNAME:EST
DTSTART:20241103T060000
END:STANDARD
BEGIN:DAYLIGHT
TZOFFSETFROM:-0500
TZOFFSETTO:-0400
TZNAME:EDT
DTSTART:20250309T070000
END:DAYLIGHT
BEGIN:STANDARD
TZOFFSETFROM:-0400
TZOFFSETTO:-0500
TZNAME:EST
DTSTART:20251102T060000
END:STANDARD
END:VTIMEZONE
BEGIN:VEVENT
DTSTART;TZID=America/New_York:20241014T163000
DTEND;TZID=America/New_York:20241014T180000
DTSTAMP:20260425T204605
CREATED:20240904T163235Z
LAST-MODIFIED:20240906T133154Z
UID:10000540-1728923400-1728928800@www.smcvt.edu
SUMMARY:The Duty to Vote
DESCRIPTION:The Duty to Vote \nMonday\, October 14\, 2024\n4:30 PM – 6:00 PM (ET)\nDion Family Student Center Roy Event Center \nDr. Julia Maskivker will deliver a lecture titled “The Duty to Vote\,” the subject of her Book of the same title\, critically acclaimed for its argument that citizens have a moral duty to vote. Dr. Julia Maskivker is a Professor of Political Science at Rollins College in Winter Park\, Florida. She specializes in political theory and political/social philosophy. Her research focuses on democratic theory\, exploring the ethics of participation with an emphasis on the morality of cooperative action in democracies. Her scholarship on justice\, global ethics\, and citizenship has helped put Rollins in the national spotlight since she came to the College in 2009.
URL:https://www.smcvt.edu/event/the-duty-to-vote/
LOCATION:Roy Room\, Dion Family Student Center
CATEGORIES:Edmundite Center for Faith and Culture
ATTACH;FMTTYPE=image/jpeg:https://www.smcvt.edu/wp-content/uploads/2020/01/Events-Dion-scaled.jpg
END:VEVENT
END:VCALENDAR