BEGIN:VCALENDAR
VERSION:2.0
PRODID:-//Saint Michael&#039;s College - ECPv6.15.14//NONSGML v1.0//EN
CALSCALE:GREGORIAN
METHOD:PUBLISH
X-WR-CALNAME:Saint Michael&#039;s College
X-ORIGINAL-URL:https://www.smcvt.edu
X-WR-CALDESC:Events for Saint Michael&#039;s College
REFRESH-INTERVAL;VALUE=DURATION:PT1H
X-Robots-Tag:noindex
X-PUBLISHED-TTL:PT1H
BEGIN:VTIMEZONE
TZID:America/New_York
BEGIN:DAYLIGHT
TZOFFSETFROM:-0500
TZOFFSETTO:-0400
TZNAME:EDT
DTSTART:20230312T070000
END:DAYLIGHT
BEGIN:STANDARD
TZOFFSETFROM:-0400
TZOFFSETTO:-0500
TZNAME:EST
DTSTART:20231105T060000
END:STANDARD
BEGIN:DAYLIGHT
TZOFFSETFROM:-0500
TZOFFSETTO:-0400
TZNAME:EDT
DTSTART:20240310T070000
END:DAYLIGHT
BEGIN:STANDARD
TZOFFSETFROM:-0400
TZOFFSETTO:-0500
TZNAME:EST
DTSTART:20241103T060000
END:STANDARD
BEGIN:DAYLIGHT
TZOFFSETFROM:-0500
TZOFFSETTO:-0400
TZNAME:EDT
DTSTART:20250309T070000
END:DAYLIGHT
BEGIN:STANDARD
TZOFFSETFROM:-0400
TZOFFSETTO:-0500
TZNAME:EST
DTSTART:20251102T060000
END:STANDARD
END:VTIMEZONE
BEGIN:VEVENT
DTSTART;TZID=America/New_York:20241108T153000
DTEND;TZID=America/New_York:20241108T163000
DTSTAMP:20260425T121621
CREATED:20241029T175903Z
LAST-MODIFIED:20241029T175903Z
UID:10001222-1731079800-1731083400@www.smcvt.edu
SUMMARY:Twenty-Third Annual Pi Mu Epsilon Lecture: Voting Systems and the Illusion of Fairness
DESCRIPTION:Twenty-Third Annual Pi Mu Epsilon Lecture\nVoting Systems and the Illusion of Fairness \nFriday\, November 8\, at 3:30 p.m.\nCheray 101\, Cheray Science Hall \nStanley Chang\, Ph.D.\, Professor of Mathematics\, Wellesley College \nThe variation of voting systems used across the world emerges from Arrow’s Theorem\, which states that any voting scheme in plurality contests must violate some axiom of fairness. In this talk\, we will discuss the mathematical underpinnings of various types of election structures used in democratic systems today.
URL:https://www.smcvt.edu/event/twenty-third-annual-pi-mu-epsilon-lecture-voting-systems-and-the-illusion-of-fairness/
LOCATION:Cheray 101\, Cheray Science Hall
CATEGORIES:Academic Affairs
ATTACH;FMTTYPE=image/jpeg:https://www.smcvt.edu/wp-content/uploads/2024/10/Twenty-Third-Annual-Pi-Mu-Epsilon-Lecture.jpg
END:VEVENT
END:VCALENDAR