BEGIN:VCALENDAR
VERSION:2.0
PRODID:-//Saint Michael&#039;s College - ECPv6.15.14//NONSGML v1.0//EN
CALSCALE:GREGORIAN
METHOD:PUBLISH
X-WR-CALNAME:Saint Michael&#039;s College
X-ORIGINAL-URL:https://www.smcvt.edu
X-WR-CALDESC:Events for Saint Michael&#039;s College
REFRESH-INTERVAL;VALUE=DURATION:PT1H
X-Robots-Tag:noindex
X-PUBLISHED-TTL:PT1H
BEGIN:VTIMEZONE
TZID:America/New_York
BEGIN:DAYLIGHT
TZOFFSETFROM:-0500
TZOFFSETTO:-0400
TZNAME:EDT
DTSTART:20240310T070000
END:DAYLIGHT
BEGIN:STANDARD
TZOFFSETFROM:-0400
TZOFFSETTO:-0500
TZNAME:EST
DTSTART:20241103T060000
END:STANDARD
BEGIN:DAYLIGHT
TZOFFSETFROM:-0500
TZOFFSETTO:-0400
TZNAME:EDT
DTSTART:20250309T070000
END:DAYLIGHT
BEGIN:STANDARD
TZOFFSETFROM:-0400
TZOFFSETTO:-0500
TZNAME:EST
DTSTART:20251102T060000
END:STANDARD
BEGIN:DAYLIGHT
TZOFFSETFROM:-0500
TZOFFSETTO:-0400
TZNAME:EDT
DTSTART:20260308T070000
END:DAYLIGHT
BEGIN:STANDARD
TZOFFSETFROM:-0400
TZOFFSETTO:-0500
TZNAME:EST
DTSTART:20261101T060000
END:STANDARD
END:VTIMEZONE
BEGIN:VEVENT
DTSTART;TZID=America/New_York:20250405T140000
DTEND;TZID=America/New_York:20250405T170000
DTSTAMP:20260425T180613
CREATED:20250312T231721Z
LAST-MODIFIED:20250312T231721Z
UID:10001405-1743861600-1743872400@www.smcvt.edu
SUMMARY:Men's Tennis at Assumption
DESCRIPTION:Men’s Tennis at Assumption Worcester\, MA
URL:https://www.smcvt.edu/event/mens-tennis-at-assumption/
CATEGORIES:Athletics,Upload 2025 Spring
END:VEVENT
BEGIN:VEVENT
DTSTART;TZID=America/New_York:20250409T150000
DTEND;TZID=America/New_York:20250409T180000
DTSTAMP:20260425T180613
CREATED:20250312T232021Z
LAST-MODIFIED:20250312T232021Z
UID:10001415-1744210800-1744221600@www.smcvt.edu
SUMMARY:Men's Tennis at Southern New Hampshire
DESCRIPTION:Men’s Tennis at Southern New Hampshire Hooksett\, NH
URL:https://www.smcvt.edu/event/mens-tennis-at-southern-new-hampshire/
CATEGORIES:Athletics,Upload 2025 Spring
END:VEVENT
BEGIN:VEVENT
DTSTART;TZID=America/New_York:20250415T140000
DTEND;TZID=America/New_York:20250415T170000
DTSTAMP:20260425T180613
CREATED:20250312T232315Z
LAST-MODIFIED:20250312T232315Z
UID:10001426-1744725600-1744736400@www.smcvt.edu
SUMMARY:Men's Tennis vs Franklin Pierce
DESCRIPTION:Men’s Tennis vs Franklin Pierce Colchester\, VT
URL:https://www.smcvt.edu/event/mens-tennis-vs-franklin-pierce/
CATEGORIES:Athletics,Upload 2025 Spring
END:VEVENT
BEGIN:VEVENT
DTSTART;TZID=America/New_York:20250418T140000
DTEND;TZID=America/New_York:20250418T170000
DTSTAMP:20260425T180613
CREATED:20250312T232414Z
LAST-MODIFIED:20250312T232414Z
UID:10001430-1744984800-1744995600@www.smcvt.edu
SUMMARY:Men's Tennis at Queens (NY)
DESCRIPTION:Men’s Tennis at Queens (NY) Flushing\, NY
URL:https://www.smcvt.edu/event/mens-tennis-at-queens-ny/
CATEGORIES:Athletics,Upload 2025 Spring
END:VEVENT
BEGIN:VEVENT
DTSTART;TZID=America/New_York:20250419T110000
DTEND;TZID=America/New_York:20250419T140000
DTSTAMP:20260425T180613
CREATED:20250312T232519Z
LAST-MODIFIED:20250312T232519Z
UID:10001434-1745060400-1745071200@www.smcvt.edu
SUMMARY:Men's Tennis at Adelphi
DESCRIPTION:Men’s Tennis at Adelphi Garden City\, NY
URL:https://www.smcvt.edu/event/mens-tennis-at-adelphi/
CATEGORIES:Athletics,Upload 2025 Spring
END:VEVENT
BEGIN:VEVENT
DTSTART;TZID=America/New_York:20250426T140000
DTEND;TZID=America/New_York:20250426T170000
DTSTAMP:20260425T180613
CREATED:20250312T232822Z
LAST-MODIFIED:20250312T232822Z
UID:10001452-1745676000-1745686800@www.smcvt.edu
SUMMARY:Men's Tennis vs Southern New Hampshire
DESCRIPTION:Men’s Tennis vs Southern New Hampshire Colchester\, VT
URL:https://www.smcvt.edu/event/mens-tennis-vs-southern-new-hampshire/
CATEGORIES:Athletics,Upload 2025 Spring
END:VEVENT
END:VCALENDAR