BEGIN:VCALENDAR
VERSION:2.0
PRODID:-//Saint Michael&#039;s College - ECPv6.15.14//NONSGML v1.0//EN
CALSCALE:GREGORIAN
METHOD:PUBLISH
X-ORIGINAL-URL:https://www.smcvt.edu
X-WR-CALDESC:Events for Saint Michael&#039;s College
REFRESH-INTERVAL;VALUE=DURATION:PT1H
X-Robots-Tag:noindex
X-PUBLISHED-TTL:PT1H
BEGIN:VTIMEZONE
TZID:America/New_York
BEGIN:DAYLIGHT
TZOFFSETFROM:-0500
TZOFFSETTO:-0400
TZNAME:EDT
DTSTART:20230312T070000
END:DAYLIGHT
BEGIN:STANDARD
TZOFFSETFROM:-0400
TZOFFSETTO:-0500
TZNAME:EST
DTSTART:20231105T060000
END:STANDARD
BEGIN:DAYLIGHT
TZOFFSETFROM:-0500
TZOFFSETTO:-0400
TZNAME:EDT
DTSTART:20240310T070000
END:DAYLIGHT
BEGIN:STANDARD
TZOFFSETFROM:-0400
TZOFFSETTO:-0500
TZNAME:EST
DTSTART:20241103T060000
END:STANDARD
BEGIN:DAYLIGHT
TZOFFSETFROM:-0500
TZOFFSETTO:-0400
TZNAME:EDT
DTSTART:20250309T070000
END:DAYLIGHT
BEGIN:STANDARD
TZOFFSETFROM:-0400
TZOFFSETTO:-0500
TZNAME:EST
DTSTART:20251102T060000
END:STANDARD
BEGIN:DAYLIGHT
TZOFFSETFROM:-0500
TZOFFSETTO:-0400
TZNAME:EDT
DTSTART:20260308T070000
END:DAYLIGHT
BEGIN:STANDARD
TZOFFSETFROM:-0400
TZOFFSETTO:-0500
TZNAME:EST
DTSTART:20261101T060000
END:STANDARD
END:VTIMEZONE
BEGIN:VEVENT
DTSTART;TZID=America/New_York:20251113T190000
DTEND;TZID=America/New_York:20251113T210000
DTSTAMP:20260425T111031
CREATED:20251107T144505Z
LAST-MODIFIED:20251107T144505Z
UID:10002730-1763060400-1763067600@www.smcvt.edu
SUMMARY:Spanish Film Night: RELATOS SALVAJES [WILD TALES]
DESCRIPTION:Spanish film night with Argentinian dark comedy Relatos Salvajes (Wild Tales).
URL:https://www.smcvt.edu/event/spanish-film-night-relatos-salvajes-wild-tales/
LOCATION:Cheray 101\, Cheray Science Hall
CATEGORIES:Institute for Global Engagement
ATTACH;FMTTYPE=application/pdf:https://www.smcvt.edu/wp-content/uploads/2025/11/Spanish-Film-Night.pdf
END:VEVENT
BEGIN:VEVENT
DTSTART;TZID=America/New_York:20250411T160000
DTEND;TZID=America/New_York:20250411T180000
DTSTAMP:20260425T111031
CREATED:20250407T185926Z
LAST-MODIFIED:20250407T185926Z
UID:10001937-1744387200-1744394400@www.smcvt.edu
SUMMARY:Water For All Movie Screening
DESCRIPTION:Water For All Movie Screening \nFriday\, April 11\, from 4 to 6 p.m.\nInstitute for the Environment\, Saint Edmund’s Hall \nWater for Life follows Indigenous activists in Latin America as they face death threats and murder to save their precious water resources from mining and hydroelectric projects. Water For Life illuminates a growing recognition of Indigenous rights and a rising demand for corporate responsibility and environmental justice that’s being seen around the world. It is a story that begins and ends with water.
URL:https://www.smcvt.edu/event/water-for-all-movie-screening/
LOCATION:Institute for the Environment\, Saint Edmund’s Hall
CATEGORIES:The Patrick '61 and Marcelle Leahy Institute for the Environment
ATTACH;FMTTYPE=image/jpeg:https://www.smcvt.edu/wp-content/uploads/2025/04/thumbnail_WFLDVjacketF.jpg
END:VEVENT
BEGIN:VEVENT
DTSTART;TZID=America/New_York:20250305T190000
DTEND;TZID=America/New_York:20250305T210000
DTSTAMP:20260425T111031
CREATED:20250123T142508Z
LAST-MODIFIED:20250123T142508Z
UID:10001287-1741201200-1741208400@www.smcvt.edu
SUMMARY:Spanish Movie Night
DESCRIPTION:Spanish Movie Night \nWednesday\, March 5\, at 7 p.m.\nCheray Science Hall\, 101 \nThrough a casual Google search Juan Mandelbaum finds out that Patricia\, an ex girlfriend from Argentina\, is among the thousands who were kidnapped\, tortured and then “disappeared” by the military during the 1976-1983 dictatorship. Then Juan embarks on a journey to find out what happened to Patricia and along the way re-examines his own choices.
URL:https://www.smcvt.edu/event/spanish-movie-night-2/
LOCATION:Cheray Science Hall\, VT
CATEGORIES:Classical and Modern Language & Literature
ATTACH;FMTTYPE=application/pdf:https://www.smcvt.edu/wp-content/uploads/2025/01/film-festival-2.pdf
END:VEVENT
BEGIN:VEVENT
DTSTART;TZID=America/New_York:20241121T163000
DTEND;TZID=America/New_York:20241121T180000
DTSTAMP:20260425T111031
CREATED:20241118T181619Z
LAST-MODIFIED:20241118T181619Z
UID:10001243-1732206600-1732212000@www.smcvt.edu
SUMMARY:Film and Discussion; Rescue Story: Saving Companion Animals by Daniel Gartzke
DESCRIPTION:Film and Discussion; Rescue Story: Saving Companion Animals by Daniel Gartzke \nThursday\, November 21\, at 4:30 p.m.\nMedia Creation Studio\, Saint Edmund’s Hall \nJoin in MOVE’s commemoration of National Hunger & Homelessness Awareness Week November 16-23\, 2024. All students\, faculty\, staff\, and alumni are invited to attend a film screening & discussion on the national issue of euthanization of 1.5 million animals in the U.S. every year\, and factors that contribute to overcrowding in shelters.
URL:https://www.smcvt.edu/event/film-and-discussion-rescue-story-saving-companion-animals-by-daniel-gartzke/
LOCATION:Media Creation Studio\, Saint Edmund’s Hall
CATEGORIES:MOVE
END:VEVENT
BEGIN:VEVENT
DTSTART;TZID=America/New_York:20241118T183000
DTEND;TZID=America/New_York:20241118T203000
DTSTAMP:20260425T111031
CREATED:20241112T155352Z
LAST-MODIFIED:20241112T155352Z
UID:10001234-1731954600-1731961800@www.smcvt.edu
SUMMARY:Just Getting By
DESCRIPTION:Just Getting By – Film Showing and Discussion \nMonday\, November 18\, at 6:30 p.m.\nFarrell Room\, Saint Edmund’s Hall \nJoin us for Just Getting By\, a new documentary film by Vermont film writer\, Bess O’Brien. The film offers a “sweeping\, and yet intimate look at the lives of Vermonters who are struggling with food and housing insecurity.” \nWatch the film and participate in a Q and A with the film writer to help us start off national Hunger and Homelessness Awareness Week with MOVE. Nonperishable food drive to benefit THRIVE@SMC at the film showing. Join us for an important conversation about the realities in our state.
URL:https://www.smcvt.edu/event/just-getting-by/
LOCATION:Farrell Room\, Saint Edmund’s Hall
CATEGORIES:MOVE
ATTACH;FMTTYPE=application/pdf:https://www.smcvt.edu/wp-content/uploads/2024/11/Just-Getting-By-Poster-2024_reduced-file-size.pdf
END:VEVENT
BEGIN:VEVENT
DTSTART;TZID=America/New_York:20240923T190000
DTEND;TZID=America/New_York:20240923T210000
DTSTAMP:20260425T111031
CREATED:20240920T142534Z
LAST-MODIFIED:20240920T142534Z
UID:10001082-1727118000-1727125200@www.smcvt.edu
SUMMARY:Movie Night with Green Up
DESCRIPTION:Movie Night with Green Up\n\nMonday\, September 23\, from 7 to 9 p.m.\nCheray 101\n\nCome watch the Lorax with Green Up! There will be cotton candy and popcorn provided. A great way to meet new people and get to know the Green Up team!
URL:https://www.smcvt.edu/event/movie-night-with-green-up/
LOCATION:Cheray 101\, Cheray Science Hall
CATEGORIES:Green Up
ATTACH;FMTTYPE=image/jpeg:https://www.smcvt.edu/wp-content/uploads/2024/09/Green-Up-Movie-Night.jpg
END:VEVENT
END:VCALENDAR