BEGIN:VCALENDAR
VERSION:2.0
PRODID:-//Saint Michael&#039;s College - ECPv6.15.14//NONSGML v1.0//EN
CALSCALE:GREGORIAN
METHOD:PUBLISH
X-ORIGINAL-URL:https://www.smcvt.edu
X-WR-CALDESC:Events for Saint Michael&#039;s College
REFRESH-INTERVAL;VALUE=DURATION:PT1H
X-Robots-Tag:noindex
X-PUBLISHED-TTL:PT1H
BEGIN:VTIMEZONE
TZID:America/New_York
BEGIN:DAYLIGHT
TZOFFSETFROM:-0500
TZOFFSETTO:-0400
TZNAME:EDT
DTSTART:20250309T070000
END:DAYLIGHT
BEGIN:STANDARD
TZOFFSETFROM:-0400
TZOFFSETTO:-0500
TZNAME:EST
DTSTART:20251102T060000
END:STANDARD
BEGIN:DAYLIGHT
TZOFFSETFROM:-0500
TZOFFSETTO:-0400
TZNAME:EDT
DTSTART:20260308T070000
END:DAYLIGHT
BEGIN:STANDARD
TZOFFSETFROM:-0400
TZOFFSETTO:-0500
TZNAME:EST
DTSTART:20261101T060000
END:STANDARD
BEGIN:DAYLIGHT
TZOFFSETFROM:-0500
TZOFFSETTO:-0400
TZNAME:EDT
DTSTART:20270314T070000
END:DAYLIGHT
BEGIN:STANDARD
TZOFFSETFROM:-0400
TZOFFSETTO:-0500
TZNAME:EST
DTSTART:20271107T060000
END:STANDARD
END:VTIMEZONE
BEGIN:VEVENT
DTSTART;TZID=America/New_York:20260326T120000
DTEND;TZID=America/New_York:20260419T120000
DTSTAMP:20260420T151647
CREATED:20260210T185818Z
LAST-MODIFIED:20260210T185818Z
UID:10002821-1774526400-1776600000@www.smcvt.edu
SUMMARY:Off-Broadway SMC alumnus play in NYC
DESCRIPTION:Timo McGillicuddy\, Class of 1984\, will debut his third play Off-Broadway this spring. Fanny\, a fantasy in G—presented by OffBrand Opera in NYC—runs March 26–April 19. \nThis vibrant work of historical fiction explores the life of composer Fanny Mendelssohn\, a childhood prodigy whose talent rivaled that of her brother\, Felix. Despite societal pressures discouraging women from pursuing careers in music\, Fanny forged her own creative path with determination\, brilliance\, and heart. \nThough not an opera\, the show is a spirited dramatic journey filled with beautiful music and imaginative storytelling. \nMembers of the St. Mike’s community—alumni\, students\, families\, and friends—are warmly encouraged to attend\, say hello to Timo\, and even grab a drink together after the performance. Student discounts are available\, so spread the word! \nBuy your tickets here: https://offbrandopera.org/ \nCome enjoy the show—and bring friends\, classmates\, and parents.
URL:https://www.smcvt.edu/event/off-broadway-smc-alumnus-play-in-nyc/
CATEGORIES:Alumni Events
ATTACH;FMTTYPE=image/png:https://www.smcvt.edu/wp-content/uploads/2026/02/Fanny-a-Fantasy-in-G.png
END:VEVENT
BEGIN:VEVENT
DTSTART;TZID=America/New_York:20260328T190000
DTEND;TZID=America/New_York:20260328T210000
DTSTAMP:20260420T151647
CREATED:20260312T202819Z
LAST-MODIFIED:20260323T173135Z
UID:10002831-1774724400-1774731600@www.smcvt.edu
SUMMARY:Spring Mainstage Theatre Production: "Antlia Pneumatica"
DESCRIPTION:“Antlia Pneumatica\,” a modern dramedy written by Anne Washburn\, explores friendship and grief through the eyes of a group gathering at a remote ranch in Texas Hill Country to mourn the loss of a friend they haven’t seen in years. The title of the play means “air pump” and references a dim constellation in the Southern Celestial Hemisphere. As the friends explore their pasts and presents — melding nostalgia\, dark humor\, and the supernatural — they discover that it may be more than the loss of a friend that binds them. \nThe play is directed by Angeljolee Carter ’26 and features a cast of Saint Michael’s College students. Scenic and lighting design will be provided by Professor John Paul Devlin\, costumes by Professor Peter Harrigan and cast members\, and sound design by Sam Waxman ’28. \nAdmission is free and on a first-come\, first-served basis. The performance on Saturday\, March 28\, will feature ASL interpretation.
URL:https://www.smcvt.edu/event/spring-mainstage-theatre-production-antlia-pneumatica-4/
LOCATION:Theater\, McCarthy Arts Center
CATEGORIES:Theatre
ATTACH;FMTTYPE=image/png:https://www.smcvt.edu/wp-content/uploads/2026/03/Screenshot-2026-03-23-at-7.47.27-AM.png
END:VEVENT
END:VCALENDAR