BEGIN:VCALENDAR
VERSION:2.0
PRODID:-//Saint Michael&#039;s College - ECPv6.15.14//NONSGML v1.0//EN
CALSCALE:GREGORIAN
METHOD:PUBLISH
X-WR-CALNAME:Saint Michael&#039;s College
X-ORIGINAL-URL:https://www.smcvt.edu
X-WR-CALDESC:Events for Saint Michael&#039;s College
REFRESH-INTERVAL;VALUE=DURATION:PT1H
X-Robots-Tag:noindex
X-PUBLISHED-TTL:PT1H
BEGIN:VTIMEZONE
TZID:America/New_York
BEGIN:DAYLIGHT
TZOFFSETFROM:-0500
TZOFFSETTO:-0400
TZNAME:EDT
DTSTART:20240310T070000
END:DAYLIGHT
BEGIN:STANDARD
TZOFFSETFROM:-0400
TZOFFSETTO:-0500
TZNAME:EST
DTSTART:20241103T060000
END:STANDARD
BEGIN:DAYLIGHT
TZOFFSETFROM:-0500
TZOFFSETTO:-0400
TZNAME:EDT
DTSTART:20250309T070000
END:DAYLIGHT
BEGIN:STANDARD
TZOFFSETFROM:-0400
TZOFFSETTO:-0500
TZNAME:EST
DTSTART:20251102T060000
END:STANDARD
BEGIN:DAYLIGHT
TZOFFSETFROM:-0500
TZOFFSETTO:-0400
TZNAME:EDT
DTSTART:20260308T070000
END:DAYLIGHT
BEGIN:STANDARD
TZOFFSETFROM:-0400
TZOFFSETTO:-0500
TZNAME:EST
DTSTART:20261101T060000
END:STANDARD
END:VTIMEZONE
BEGIN:VEVENT
DTSTART;TZID=America/New_York:20251024T160000
DTEND;TZID=America/New_York:20251024T200000
DTSTAMP:20260425T104124
CREATED:20251020T202533Z
LAST-MODIFIED:20251020T202533Z
UID:10002718-1761321600-1761336000@www.smcvt.edu
SUMMARY:'Meet DJ Nastee Mixer'
DESCRIPTION:Nationally known Club DJ\, Mix Engineer\, and Recording Engineer\, DJ Nastee visits Saint Michael’s College to engage with students on October 24\, 2025. His visit sets the stage for ongoing collaborations with students interested in live music\, radio DJing and Club DJing in support of ongoing work linking the expression of equity and justice in Reggae (Fall 2025) and Hip Hop (Spring 2026) to the study of equity and justice in the classroom and in the lived experiences of people throughout history to the present moment.
URL:https://www.smcvt.edu/event/meet-dj-nastee-mixer/
LOCATION:International Commons
CATEGORIES:Institute for Equity and Justice
END:VEVENT
END:VCALENDAR