BEGIN:VCALENDAR
VERSION:2.0
PRODID:-//Saint Michael&#039;s College - ECPv6.15.14//NONSGML v1.0//EN
CALSCALE:GREGORIAN
METHOD:PUBLISH
X-WR-CALNAME:Saint Michael&#039;s College
X-ORIGINAL-URL:https://www.smcvt.edu
X-WR-CALDESC:Events for Saint Michael&#039;s College
REFRESH-INTERVAL;VALUE=DURATION:PT1H
X-Robots-Tag:noindex
X-PUBLISHED-TTL:PT1H
BEGIN:VTIMEZONE
TZID:America/New_York
BEGIN:DAYLIGHT
TZOFFSETFROM:-0500
TZOFFSETTO:-0400
TZNAME:EDT
DTSTART:20230312T070000
END:DAYLIGHT
BEGIN:STANDARD
TZOFFSETFROM:-0400
TZOFFSETTO:-0500
TZNAME:EST
DTSTART:20231105T060000
END:STANDARD
BEGIN:DAYLIGHT
TZOFFSETFROM:-0500
TZOFFSETTO:-0400
TZNAME:EDT
DTSTART:20240310T070000
END:DAYLIGHT
BEGIN:STANDARD
TZOFFSETFROM:-0400
TZOFFSETTO:-0500
TZNAME:EST
DTSTART:20241103T060000
END:STANDARD
BEGIN:DAYLIGHT
TZOFFSETFROM:-0500
TZOFFSETTO:-0400
TZNAME:EDT
DTSTART:20250309T070000
END:DAYLIGHT
BEGIN:STANDARD
TZOFFSETFROM:-0400
TZOFFSETTO:-0500
TZNAME:EST
DTSTART:20251102T060000
END:STANDARD
END:VTIMEZONE
BEGIN:VEVENT
DTSTART;TZID=America/New_York:20240913T110000
DTEND;TZID=America/New_York:20240913T140000
DTSTAMP:20260421T215253
CREATED:20240916T135936Z
LAST-MODIFIED:20250312T225825Z
UID:10000948-1726225200-1726236000@www.smcvt.edu
SUMMARY:Women's Volleyball vs UVA Wise
DESCRIPTION:Women’s Volleyball vs UVA Wise Saint Leo\, FL / Saint Leo University
URL:https://www.smcvt.edu/event/womens-volleyball-vs-uva-wise/
CATEGORIES:Athletics,uploadathletics
ATTACH;FMTTYPE=image/png:https://www.smcvt.edu/wp-content/uploads/2024/09/logo-athletics-1.png
END:VEVENT
BEGIN:VEVENT
DTSTART;TZID=America/New_York:20240913T183000
DTEND;TZID=America/New_York:20240913T213000
DTSTAMP:20260421T215253
CREATED:20240916T135939Z
LAST-MODIFIED:20250312T225824Z
UID:10000950-1726252200-1726263000@www.smcvt.edu
SUMMARY:Women's Volleyball at Saint Leo
DESCRIPTION:Women’s Volleyball at Saint Leo Saint Leo\, FL
URL:https://www.smcvt.edu/event/womens-volleyball-at-saint-leo/
CATEGORIES:Athletics,uploadathletics
ATTACH;FMTTYPE=image/png:https://www.smcvt.edu/wp-content/uploads/2024/09/logo-athletics-1.png
END:VEVENT
BEGIN:VEVENT
DTSTART;TZID=America/New_York:20240914T110000
DTEND;TZID=America/New_York:20240914T140000
DTSTAMP:20260421T215253
CREATED:20240916T135940Z
LAST-MODIFIED:20250312T225823Z
UID:10000951-1726311600-1726322400@www.smcvt.edu
SUMMARY:Women's Volleyball vs Valdosta State
DESCRIPTION:Women’s Volleyball vs Valdosta State Saint Leo\, FL / Saint Leo University
URL:https://www.smcvt.edu/event/womens-volleyball-vs-valdosta-state/
CATEGORIES:Athletics,uploadathletics
ATTACH;FMTTYPE=image/png:https://www.smcvt.edu/wp-content/uploads/2024/09/logo-athletics-1.png
END:VEVENT
BEGIN:VEVENT
DTSTART;TZID=America/New_York:20240914T153000
DTEND;TZID=America/New_York:20240914T183000
DTSTAMP:20260421T215253
CREATED:20240916T135947Z
LAST-MODIFIED:20250312T225822Z
UID:10000953-1726327800-1726338600@www.smcvt.edu
SUMMARY:Women's Volleyball vs Saint Edward's
DESCRIPTION:Women’s Volleyball vs Saint Edward’s Saint Leo\, FL / Saint Leo University
URL:https://www.smcvt.edu/event/womens-volleyball-vs-saint-edwards/
CATEGORIES:Athletics,uploadathletics
ATTACH;FMTTYPE=image/png:https://www.smcvt.edu/wp-content/uploads/2024/09/logo-athletics-1.png
END:VEVENT
BEGIN:VEVENT
DTSTART;TZID=America/New_York:20240922T100000
DTEND;TZID=America/New_York:20240922T130000
DTSTAMP:20260421T215253
CREATED:20240916T140228Z
LAST-MODIFIED:20240917T191610Z
UID:10000966-1726999200-1727010000@www.smcvt.edu
SUMMARY:Women's Volleyball vs Roberts Wesleyan
DESCRIPTION:Women’s Volleyball vs Roberts Wesleyan Colchester\, VT
URL:https://www.smcvt.edu/event/womens-volleyball-vs-roberts-wesleyan/
CATEGORIES:Athletics
ATTACH;FMTTYPE=image/png:https://www.smcvt.edu/wp-content/uploads/2024/09/logo-athletics-1.png
END:VEVENT
BEGIN:VEVENT
DTSTART;TZID=America/New_York:20240922T140000
DTEND;TZID=America/New_York:20240922T170000
DTSTAMP:20260421T215253
CREATED:20240916T140322Z
LAST-MODIFIED:20240917T193157Z
UID:10000968-1727013600-1727024400@www.smcvt.edu
SUMMARY:Women's Volleyball vs Post
DESCRIPTION:Women’s Volleyball vs Post Colchester\, VT
URL:https://www.smcvt.edu/event/womens-volleyball-vs-post/
CATEGORIES:Athletics
ATTACH;FMTTYPE=image/png:https://www.smcvt.edu/wp-content/uploads/2024/09/logo-athletics-1.png
END:VEVENT
BEGIN:VEVENT
DTSTART;TZID=America/New_York:20240927T150000
DTEND;TZID=America/New_York:20240927T180000
DTSTAMP:20260421T215253
CREATED:20240916T140437Z
LAST-MODIFIED:20250312T225816Z
UID:10000974-1727449200-1727460000@www.smcvt.edu
SUMMARY:Women's Volleyball vs Bridgeport
DESCRIPTION:Women’s Volleyball vs Bridgeport Springfield\, MA / American International College
URL:https://www.smcvt.edu/event/womens-volleyball-vs-bridgeport/
CATEGORIES:Athletics,uploadathletics
ATTACH;FMTTYPE=image/png:https://www.smcvt.edu/wp-content/uploads/2024/09/logo-athletics-1.png
END:VEVENT
BEGIN:VEVENT
DTSTART;TZID=America/New_York:20240927T173000
DTEND;TZID=America/New_York:20240927T203000
DTSTAMP:20260421T215253
CREATED:20240916T140438Z
LAST-MODIFIED:20250312T225815Z
UID:10000975-1727458200-1727469000@www.smcvt.edu
SUMMARY:Women's Volleyball at American International
DESCRIPTION:Women’s Volleyball at American International Springfield\, MA
URL:https://www.smcvt.edu/event/womens-volleyball-at-american-international/
CATEGORIES:Athletics,uploadathletics
ATTACH;FMTTYPE=image/png:https://www.smcvt.edu/wp-content/uploads/2024/09/logo-athletics-1.png
END:VEVENT
BEGIN:VEVENT
DTSTART;TZID=America/New_York:20240928T160000
DTEND;TZID=America/New_York:20240928T190000
DTSTAMP:20260421T215253
CREATED:20240916T140458Z
LAST-MODIFIED:20250312T225808Z
UID:10000983-1727539200-1727550000@www.smcvt.edu
SUMMARY:Women's Volleyball vs Southern New Hampshire
DESCRIPTION:Women’s Volleyball vs Southern New Hampshire Springfield\, MA / American International College
URL:https://www.smcvt.edu/event/womens-volleyball-vs-southern-new-hampshire/
CATEGORIES:Athletics,uploadathletics
ATTACH;FMTTYPE=image/png:https://www.smcvt.edu/wp-content/uploads/2024/09/logo-athletics-1.png
END:VEVENT
END:VCALENDAR