BEGIN:VCALENDAR
VERSION:2.0
PRODID:-//Saint Michael&#039;s College - ECPv6.15.14//NONSGML v1.0//EN
CALSCALE:GREGORIAN
METHOD:PUBLISH
X-ORIGINAL-URL:https://www.smcvt.edu
X-WR-CALDESC:Events for Saint Michael&#039;s College
REFRESH-INTERVAL;VALUE=DURATION:PT1H
X-Robots-Tag:noindex
X-PUBLISHED-TTL:PT1H
BEGIN:VTIMEZONE
TZID:America/New_York
BEGIN:DAYLIGHT
TZOFFSETFROM:-0500
TZOFFSETTO:-0400
TZNAME:EDT
DTSTART:20220313T070000
END:DAYLIGHT
BEGIN:STANDARD
TZOFFSETFROM:-0400
TZOFFSETTO:-0500
TZNAME:EST
DTSTART:20221106T060000
END:STANDARD
BEGIN:DAYLIGHT
TZOFFSETFROM:-0500
TZOFFSETTO:-0400
TZNAME:EDT
DTSTART:20230312T070000
END:DAYLIGHT
BEGIN:STANDARD
TZOFFSETFROM:-0400
TZOFFSETTO:-0500
TZNAME:EST
DTSTART:20231105T060000
END:STANDARD
BEGIN:DAYLIGHT
TZOFFSETFROM:-0500
TZOFFSETTO:-0400
TZNAME:EDT
DTSTART:20240310T070000
END:DAYLIGHT
BEGIN:STANDARD
TZOFFSETFROM:-0400
TZOFFSETTO:-0500
TZNAME:EST
DTSTART:20241103T060000
END:STANDARD
BEGIN:DAYLIGHT
TZOFFSETFROM:-0500
TZOFFSETTO:-0400
TZNAME:EDT
DTSTART:20250309T070000
END:DAYLIGHT
BEGIN:STANDARD
TZOFFSETFROM:-0400
TZOFFSETTO:-0500
TZNAME:EST
DTSTART:20251102T060000
END:STANDARD
END:VTIMEZONE
BEGIN:VEVENT
DTSTART;TZID=America/New_York:20240604T183500
DTEND;TZID=America/New_York:20240604T220000
DTSTAMP:20260421T081654
CREATED:20240522T163859Z
LAST-MODIFIED:20240522T164409Z
UID:10000446-1717526100-1717538400@www.smcvt.edu
SUMMARY:St. Mike's Night at the Durham Bulls!
DESCRIPTION:North Carolina Purple Knights\, cheer on the Durham Bulls as they face off against the Gwinett Stripers! With seats in section 124 under the Red Oak Roof Top and an included all-you-can-eat buffet\, you won’t want to miss this Saint Michael’s event! \nTuesday\, June 4th\nFirst pitch is at 6:35pm \nDurham Bulls Athletic Park\n409 Blackwell Street\nDurham\, NC 27701 \nTickets are $30.50/person; buy them here! Children who are 2 years old and under get in for free. Read about parking at the Durham Bulls Athletic Park on their website. \nQuestions? Email events@smcvt.edu.
URL:https://www.smcvt.edu/event/st-mikes-night-at-the-durham-bulls/
LOCATION:Durham Bulls Athletic Park\, 409 Blackwell Street\, Durham\, NC\, 27701\, United States
CATEGORIES:Alumni Events
ATTACH;FMTTYPE=image/png:https://www.smcvt.edu/wp-content/uploads/2024/05/Durham_Bulls_logo.svg.png
END:VEVENT
BEGIN:VEVENT
DTSTART;TZID=America/New_York:20240531T100000
DTEND;TZID=America/New_York:20240531T140000
DTSTAMP:20260421T081654
CREATED:20240430T123558Z
LAST-MODIFIED:20240430T123558Z
UID:10000443-1717149600-1717164000@www.smcvt.edu
SUMMARY:Reunion 2024 Golf Outing
DESCRIPTION:Friday\, May 31\, 2024\nWilliston Golf Club\, Williston\nPrice per player: $100\nIncludes 18 holes\, golf cart\, and brown bag lunch. \nRegister here! \nRegistration Deadline: Friday\, May 20\, 2024. No refunds after this date. \n*10 am shotgun start if we have 60 golfers or more. Less than 60 golfers will have tee times of foursomes off every 8 minutes; tee times will be assigned in the order that golfers have registered to play.
URL:https://www.smcvt.edu/event/reunion-2024-golf-outing/
LOCATION:Williston Golf Club\, 424 Golf Course Road\, Williston\, VT\, 05495\, United States
CATEGORIES:Alumni Events
END:VEVENT
BEGIN:VEVENT
DTSTART;TZID=America/New_York:20240531T080000
DTEND;TZID=America/New_York:20240602T170000
DTSTAMP:20260421T081654
CREATED:20230615T173541Z
LAST-MODIFIED:20240416T171121Z
UID:10000404-1717142400-1717347600@www.smcvt.edu
SUMMARY:Reunion 2024
DESCRIPTION:
URL:https://www.smcvt.edu/event/reunion-2024/
LOCATION:Saint Michael’s College\, One Winooski Park\, Colchester\, VT\, 05439\, United States
CATEGORIES:Alumni Events
ATTACH;FMTTYPE=image/png:https://www.smcvt.edu/wp-content/uploads/2023/06/reunion-resized.png
END:VEVENT
BEGIN:VEVENT
DTSTART;TZID=America/New_York:20240417T180000
DTEND;TZID=America/New_York:20240417T200000
DTSTAMP:20260421T081654
CREATED:20240326T155308Z
LAST-MODIFIED:20240326T155308Z
UID:10000441-1713376800-1713384000@www.smcvt.edu
SUMMARY:New York City Presidential Event
DESCRIPTION:
URL:https://www.smcvt.edu/event/new-york-city-presidential-event/
LOCATION:30 Hudson Yards\, 500 West 33rd Street\, 63rd Floor\, New York City\, NY\, 10001\, United States
CATEGORIES:Alumni Events
END:VEVENT
BEGIN:VEVENT
DTSTART;VALUE=DATE:20240328
DTEND;VALUE=DATE:20240329
DTSTAMP:20260421T081654
CREATED:20240321T184010Z
LAST-MODIFIED:20240321T184529Z
UID:10000279-1711584000-1711670399@www.smcvt.edu
SUMMARY:Purple & Gold Day 2024!
DESCRIPTION:
URL:https://www.smcvt.edu/event/pgday24/
CATEGORIES:Alumni Events
ATTACH;FMTTYPE=image/jpeg:https://www.smcvt.edu/wp-content/uploads/2024/03/Purple-and-Gold-Insta-2024-scaled.jpg
END:VEVENT
BEGIN:VEVENT
DTSTART;TZID=America/New_York:20240327T173000
DTEND;TZID=America/New_York:20240327T193000
DTSTAMP:20260421T081654
CREATED:20240326T154545Z
LAST-MODIFIED:20240326T154939Z
UID:10000280-1711560600-1711567800@www.smcvt.edu
SUMMARY:Vermont Presidential Event
DESCRIPTION:
URL:https://www.smcvt.edu/event/vtpresidentialevent/
LOCATION:Courtyard Marriott\, Harbor Room\, 25 Cherry Street\, Burlington\, VT\, 05401\, United States
CATEGORIES:Alumni Events
END:VEVENT
BEGIN:VEVENT
DTSTART;TZID=America/New_York:20240316T103000
DTEND;TZID=America/New_York:20240316T130000
DTSTAMP:20260421T081654
CREATED:20240207T182028Z
LAST-MODIFIED:20240207T182651Z
UID:10000277-1710585000-1710594000@www.smcvt.edu
SUMMARY:SMC Naples St. Patrick's Day Parade
DESCRIPTION:
URL:https://www.smcvt.edu/event/smc-naples-st-patricks-day-parade/
CATEGORIES:Alumni Events
ATTACH;FMTTYPE=application/pdf:https://www.smcvt.edu/wp-content/uploads/2024/02/Naples-Parade-Shirt-2024-1_Redacted.pdf
END:VEVENT
BEGIN:VEVENT
DTSTART;TZID=America/New_York:20230916T143000
DTEND;TZID=America/New_York:20230916T163000
DTSTAMP:20260421T081654
CREATED:20230906T152134Z
LAST-MODIFIED:20230906T153704Z
UID:10000254-1694874600-1694881800@www.smcvt.edu
SUMMARY:Alumni River Cruise with North River Lobster Company in NYC
DESCRIPTION:
URL:https://www.smcvt.edu/event/river-cruise-with-north-river-lobster-company-in-nyc/
LOCATION:Pier 81\, W 41st St\, New York\, NY 10036\, Pier 81\, W 41st St\, New York\, NY\, 10036\, United States
CATEGORIES:Alumni Events
ATTACH;FMTTYPE=image/png:https://www.smcvt.edu/wp-content/uploads/2023/09/Saint-Michaels-College-Alumni-at-1.png
END:VEVENT
BEGIN:VEVENT
DTSTART;TZID=America/New_York:20230912T190000
DTEND;TZID=America/New_York:20230912T200000
DTSTAMP:20260421T081654
CREATED:20230906T152916Z
LAST-MODIFIED:20230906T152916Z
UID:10000256-1694545200-1694548800@www.smcvt.edu
SUMMARY:Prayer Service To Remember our Beloved Deceased
DESCRIPTION:
URL:https://www.smcvt.edu/event/prayer-service-to-remember-our-beloved-deceased/
LOCATION:The Chapel
CATEGORIES:Alumni Events
ATTACH;FMTTYPE=image/jpeg:https://www.smcvt.edu/wp-content/uploads/2022/08/Kelechi450.jpg
END:VEVENT
BEGIN:VEVENT
DTSTART;TZID=America/New_York:20230629T180000
DTEND;TZID=America/New_York:20230629T210000
DTSTAMP:20260421T081654
CREATED:20230505T175216Z
LAST-MODIFIED:20230505T175216Z
UID:10000402-1688061600-1688072400@www.smcvt.edu
SUMMARY:St. Mike's at the Lake Monsters
DESCRIPTION:
URL:https://www.smcvt.edu/event/st-mikes-at-the-lake-monsters/
CATEGORIES:Alumni Events
ATTACH;FMTTYPE=image/jpeg:https://www.smcvt.edu/wp-content/uploads/2023/05/Lake-Monsters-8.2.18110.jpg
END:VEVENT
END:VCALENDAR