BEGIN:VCALENDAR
VERSION:2.0
PRODID:-//Saint Michael&#039;s College - ECPv6.15.14//NONSGML v1.0//EN
CALSCALE:GREGORIAN
METHOD:PUBLISH
X-ORIGINAL-URL:https://www.smcvt.edu
X-WR-CALDESC:Events for Saint Michael&#039;s College
REFRESH-INTERVAL;VALUE=DURATION:PT1H
X-Robots-Tag:noindex
X-PUBLISHED-TTL:PT1H
BEGIN:VTIMEZONE
TZID:America/New_York
BEGIN:DAYLIGHT
TZOFFSETFROM:-0500
TZOFFSETTO:-0400
TZNAME:EDT
DTSTART:20220313T070000
END:DAYLIGHT
BEGIN:STANDARD
TZOFFSETFROM:-0400
TZOFFSETTO:-0500
TZNAME:EST
DTSTART:20221106T060000
END:STANDARD
BEGIN:DAYLIGHT
TZOFFSETFROM:-0500
TZOFFSETTO:-0400
TZNAME:EDT
DTSTART:20230312T070000
END:DAYLIGHT
BEGIN:STANDARD
TZOFFSETFROM:-0400
TZOFFSETTO:-0500
TZNAME:EST
DTSTART:20231105T060000
END:STANDARD
BEGIN:DAYLIGHT
TZOFFSETFROM:-0500
TZOFFSETTO:-0400
TZNAME:EDT
DTSTART:20240310T070000
END:DAYLIGHT
BEGIN:STANDARD
TZOFFSETFROM:-0400
TZOFFSETTO:-0500
TZNAME:EST
DTSTART:20241103T060000
END:STANDARD
BEGIN:DAYLIGHT
TZOFFSETFROM:-0500
TZOFFSETTO:-0400
TZNAME:EDT
DTSTART:20250309T070000
END:DAYLIGHT
BEGIN:STANDARD
TZOFFSETFROM:-0400
TZOFFSETTO:-0500
TZNAME:EST
DTSTART:20251102T060000
END:STANDARD
END:VTIMEZONE
BEGIN:VEVENT
DTSTART;TZID=America/New_York:20240930T160000
DTEND;TZID=America/New_York:20240930T170000
DTSTAMP:20260419T155832
CREATED:20240906T131959Z
LAST-MODIFIED:20240906T133240Z
UID:10000544-1727712000-1727715600@www.smcvt.edu
SUMMARY:Civilian Response to Active Shooter Events (CRASE)
DESCRIPTION:Civilian Response to Active Shooter Events (CRASE) \nFaculty and Staff – Monday\, September 30th from 4-5pm\nStudents – Tuesday\, October 1st from 4-5pm\nCheray 111\n\n\nThe Colchester Police and SMC Public Safety will be hosting our annual Civilian Response to Active Shooter Events (CRASE) training in Cheray 111 on September 30th and October 1st. This training will highlight the philosophy of Avoid\, Deny\, Defend and will discuss strategies to recognize and survive an active shooter event.\n\nThe Faculty & Staff session will be on September 30th from 4-5 p.m. The student session will be on October 1st from 4-5 p.m.
URL:https://www.smcvt.edu/event/civilian-response-to-active-shooter-events-crase/2024-09-30/
LOCATION:Cheray Science Hall\, VT
CATEGORIES:Public Safety
ATTACH;FMTTYPE=image/jpeg:https://www.smcvt.edu/wp-content/uploads/2024/09/2024-CRASE.jpg
END:VEVENT
BEGIN:VEVENT
DTSTART;TZID=America/New_York:20231005T123000
DTEND;TZID=America/New_York:20231005T171500
DTSTAMP:20260419T155832
CREATED:20230914T192755Z
LAST-MODIFIED:20230914T192823Z
UID:10000424-1696509000-1696526100@www.smcvt.edu
SUMMARY:Open Air Farm Stand
DESCRIPTION:
URL:https://www.smcvt.edu/event/open-air-farm-stand-5/
LOCATION:Cheray Science Hall\, VT
CATEGORIES:The Patrick '61 and Marcelle Leahy Institute for the Environment
ATTACH;FMTTYPE=image/png:https://www.smcvt.edu/wp-content/uploads/2021/08/FarmandFood1-e1693340104442.png
END:VEVENT
BEGIN:VEVENT
DTSTART;TZID=America/New_York:20230928T123000
DTEND;TZID=America/New_York:20230928T171500
DTSTAMP:20260419T155832
CREATED:20230914T192718Z
LAST-MODIFIED:20230914T192745Z
UID:10000423-1695904200-1695921300@www.smcvt.edu
SUMMARY:Open Air Farm Stand
DESCRIPTION:
URL:https://www.smcvt.edu/event/open-air-farm-stand-4/
LOCATION:Cheray Science Hall\, VT
CATEGORIES:The Patrick '61 and Marcelle Leahy Institute for the Environment
ATTACH;FMTTYPE=image/png:https://www.smcvt.edu/wp-content/uploads/2021/08/FarmandFood1-e1693340104442.png
END:VEVENT
BEGIN:VEVENT
DTSTART;TZID=America/New_York:20230921T123000
DTEND;TZID=America/New_York:20230921T171500
DTSTAMP:20260419T155832
CREATED:20230914T191658Z
LAST-MODIFIED:20230914T191724Z
UID:10000262-1695299400-1695316500@www.smcvt.edu
SUMMARY:Open Air Farm Stand
DESCRIPTION:
URL:https://www.smcvt.edu/event/open-air-farm-stand-3/
LOCATION:Cheray Science Hall\, VT
CATEGORIES:The Patrick '61 and Marcelle Leahy Institute for the Environment
ATTACH;FMTTYPE=image/png:https://www.smcvt.edu/wp-content/uploads/2021/08/FarmandFood1-e1693340104442.png
END:VEVENT
BEGIN:VEVENT
DTSTART;TZID=America/New_York:20230914T123000
DTEND;TZID=America/New_York:20230914T171500
DTSTAMP:20260419T155832
CREATED:20230829T204524Z
LAST-MODIFIED:20230829T204556Z
UID:10000248-1694694600-1694711700@www.smcvt.edu
SUMMARY:Open Air Farm Stand
DESCRIPTION:
URL:https://www.smcvt.edu/event/open-air-farm-stand-2/
LOCATION:Cheray Science Hall\, VT
CATEGORIES:The Patrick '61 and Marcelle Leahy Institute for the Environment
ATTACH;FMTTYPE=image/png:https://www.smcvt.edu/wp-content/uploads/2021/08/FarmandFood1-e1693340104442.png
END:VEVENT
BEGIN:VEVENT
DTSTART;TZID=America/New_York:20230907T123000
DTEND;TZID=America/New_York:20230907T171500
DTSTAMP:20260419T155832
CREATED:20230829T201326Z
LAST-MODIFIED:20230829T201516Z
UID:10000415-1694089800-1694106900@www.smcvt.edu
SUMMARY:Open Air Farm Stand
DESCRIPTION:
URL:https://www.smcvt.edu/event/open-air-farm-stand/
LOCATION:Cheray Science Hall\, VT
CATEGORIES:The Patrick '61 and Marcelle Leahy Institute for the Environment
ATTACH;FMTTYPE=image/png:https://www.smcvt.edu/wp-content/uploads/2021/08/FarmandFood1-e1693340104442.png
END:VEVENT
END:VCALENDAR