BEGIN:VCALENDAR
VERSION:2.0
PRODID:-//Saint Michael&#039;s College - ECPv6.15.14//NONSGML v1.0//EN
CALSCALE:GREGORIAN
METHOD:PUBLISH
X-ORIGINAL-URL:https://www.smcvt.edu
X-WR-CALDESC:Events for Saint Michael&#039;s College
REFRESH-INTERVAL;VALUE=DURATION:PT1H
X-Robots-Tag:noindex
X-PUBLISHED-TTL:PT1H
BEGIN:VTIMEZONE
TZID:America/New_York
BEGIN:DAYLIGHT
TZOFFSETFROM:-0500
TZOFFSETTO:-0400
TZNAME:EDT
DTSTART:20230312T070000
END:DAYLIGHT
BEGIN:STANDARD
TZOFFSETFROM:-0400
TZOFFSETTO:-0500
TZNAME:EST
DTSTART:20231105T060000
END:STANDARD
BEGIN:DAYLIGHT
TZOFFSETFROM:-0500
TZOFFSETTO:-0400
TZNAME:EDT
DTSTART:20240310T070000
END:DAYLIGHT
BEGIN:STANDARD
TZOFFSETFROM:-0400
TZOFFSETTO:-0500
TZNAME:EST
DTSTART:20241103T060000
END:STANDARD
BEGIN:DAYLIGHT
TZOFFSETFROM:-0500
TZOFFSETTO:-0400
TZNAME:EDT
DTSTART:20250309T070000
END:DAYLIGHT
BEGIN:STANDARD
TZOFFSETFROM:-0400
TZOFFSETTO:-0500
TZNAME:EST
DTSTART:20251102T060000
END:STANDARD
END:VTIMEZONE
BEGIN:VEVENT
DTSTART;TZID=America/New_York:20241205T180000
DTEND;TZID=America/New_York:20241205T200000
DTSTAMP:20260418T061927
CREATED:20241104T162350Z
LAST-MODIFIED:20241104T163456Z
UID:10001224-1733421600-1733428800@www.smcvt.edu
SUMMARY:North Carolina Alumni Club Holiday Party!
DESCRIPTION:Start the holiday season right with your St. Mike’s North Carolina club! \nJoin the North Carolina SMC Alumni Club at ZincHouse to ring in the holiday season! Keep an eye out for the SMC banner to find our group within the main building.  In the spirit of the season\, please bring one or two brand new or gently used children’s or young adult books to be donated to Book Harvest\, a local literacy organization that serves the reading needs of North Carolina. \nThursday\, December 5th\n6:00 – 8:00 pm\n \nZincHouse Winery & Brewery\n6225 Wake Forest Highway\nDurham\, NC 27703 \nZincHouse offers a wide variety of drinks and food truck options on site. \n(This is a pay-as-you-go event.)
URL:https://www.smcvt.edu/event/nc-club-holiday-party/
LOCATION:ZincHouse Winery & Brewery\, 6225 Wake Forest Highway\, Durham\, NC\, 27703\, United States
CATEGORIES:Alumni Events
END:VEVENT
END:VCALENDAR